{"text_format":"1","workbook":"xlsx","n_sheets":9,"sheets":["9 DÍAS (1 UA)","18 DÍAS (1 UA)","9 DÍAS (2 o más UA)","18 DÍAS (2 o más UA)","Solicitudes Acceso restringido","3 DÍAS (UT)","5 DÍAS (2 o más UA)","RESUMEN POR UA","TABLAS"],"not_rendered":{"charts":4,"images":3,"macros":1,"external_links":0,"defined_names":18,"comments":2,"pivot_tables":0},"unopened":[],"bounds":{"document_bytes":16777216,"sheet_cells":100000,"rows_first":2000,"rows_last":500,"rows_between":2000,"halvings":0,"cell_chars":16384,"cell_head_chars":4096},"cells_cut":0,"cells_raw":0,"read":"whole","date_system":"1900"}

{"sheet":"9 DÍAS (1 UA)","index":0,"n_rows":62,"n_cols":26,"rows_kept":62,"cut":false,"hidden":false,"merged":[[1,3,1,8],[8,21,8,22],[8,23,8,24],[8,25,8,26],[8,27,8,28],[8,1,8,2],[8,3,8,4],[8,5,8,6],[6,1,6,24],[7,1,7,24],[8,7,8,8],[8,9,8,10],[8,11,8,12],[8,13,8,14],[8,15,8,16],[8,17,8,18],[8,19,8,20]]}
[null,null,"FOLIOS PENDIENTES A LA FECHA DE REPORTE"]
[]
[]
[]
[null,null,"FOLIOS PENDIENTES A LA FECHA DE REPORTE"]
[]
[null,"TIEMPO DE ATENCIÓN A SOLICITUDES DE INFORMACIÓN, FOLIOS DEL 05 DE MAYO AL 03 DE OCTUBRE DE 2016"]
[null,"ATENDIDAS POR \"UNA UNIDAD ADMINISTRATIVA\" (10 DÍAS HÁBILES)"]
[null,"Secretaría Técnica",null,"Secretaría Ejecutiva",null,"Contraloría",null,"Dirección Jurídica y Desarrollo Normativo",null,"Dirección de Capacitación y Cultura de la Transparencia",null,"Dirección de Evaluación y Estudios",null,"Dirección de Datos Personales",null,"Dirección de Vinculación con la Sociedad",null,"Dirección de Tecnologías de Información",null,"Dirección de Administración y Finanzas",null,"Dirección de Comunicación Social",null,"Unidad de Transparencia"]
[null,"Folio","Días","Folio","Días","Folio","Días","Folio","Días","Folio","Días","Folio","Días","Folio","Días","Folio","Días","Folio","Días","Folio","Días","Folio","Días","Folio","Días"]
[1,"3100000075916",9,"3100000109416",9,"3100000107916",5,"3100000079716",8,"3100000095316",3,"3100000075516",6,"3100000077416",7,"3100000075816",3,"3100000076216",3,"3100000079216",6,"3100000078716",2,"3100000111516",7]
[{"$f":"SUM(A11+1)","v":2},"3100000076016",9,"3100000110516",9,"3100000125116",3,"3100000081716",4,"3100000109516",7,"3100000079516",5,"3100000078516",7,"3100000151216",null,"3100000077516",3,"3100000079616",6,"3100000118116",5,"3100000111616",7]
[{"$f":"SUM(A12+1)","v":3},"3100000084116",5,"3100000115216",8,"3100000125216",3,"3100000090916",9,"3100000110616",7,"3100000089816",2,"3100000078616",7,null,null,"3100000094016",3,"3100000081016",5,"3100000127516",0,"3100000111716",8]
[4,"3100000084216",5,"3100000115316",8,"3100000138416",2,"3100000098516",9,"3100000116916",6,"3100000091216",2,"3100000080216",6,null,null,"3100000094116",3,"3100000084616",4,"3100000130516",0,"3100000111816",8]
[5,"3100000084316",5,"3100000115616",8,"3100000144416",5,"3100000103016",9,"3100000127916",3,"3100000105916",2,"3100000080316",6,null,null,"3100000094216",3,"3100000091016",4,null,null,"3100000111916",8]
[6,"3100000084416",5,"3100000115816",8,null,null,"3100000103116",7,null,null,"3100000110016",9,"3100000080416",6,null,null,"3100000094316",3,"3100000091716",9,null,null,"3100000112016",8]
[7,"3100000084516",5,"3100000116416",8,null,null,"3100000103216",7,null,null,"3100000112816",9,"3100000080516",6,null,null,"3100000095916",3,"3100000091816",9,null,null,"3100000112116",8]
[8,"3100000085816",4,"3100000118216",5,null,null,"3100000104116",6,null,null,"3100000113316",8,"3100000080616",6,null,null,"3100000102416",4,"3100000092516",3,null,null,"3100000112216",8]
[9,"3100000085916",4,"3100000118816",7,null,null,"3100000104716",5,null,null,"3100000113416",8,"3100000080716",6,null,null,"3100000110116",8,"3100000097216",7,null,null,"3100000112316",8]
[10,"3100000087916",7,"3100000122316",7,null,null,"3100000105616",8,null,null,"3100000120716",5,"3100000106016",8,null,null,"3100000111116",8,"3100000097316",7,null,null,"3100000112416",8]
[11,"3100000102316",6,"3100000128916",1,null,null,"3100000106916",7,null,null,"3100000126016",3,"3100000116716",3,null,null,"3100000113916",7,"3100000098316",9,null,null,"3100000112516",8]
[12,"3100000109316",9,"3100000129416",9,null,null,"3100000108016",9,null,null,"3100000128516",2,"3100000137816",9,null,null,"3100000130216",4,"3100000098416",9,null,null,"3100000112616",8]
[13,"3100000109816",9,"3100000129516",9,null,null,"3100000108116",9,null,null,"3100000130316",3,"3100000137916",9,null,null,"3100000133916",3,"3100000103616",5,null,null,"3100000112716",8]
[14,"3100000129116",8,"3100000132616",9,null,null,"3100000108216",9,null,null,"3100000134216",1,"3100000138016",9,null,null,"3100000142116",4,"3100000105316",1,null,null,"3100000113716",6]
[15,null,null,"3100000144516",9,null,null,"3100000108316",9,null,null,"3100000135116",2,"3100000138216",9,null,null,null,null,"3100000106416",8,null,null,"3100000114916",3]
[16,null,null,"3100000145116",6,null,null,"3100000116216",9,null,null,"3100000139916",1,null,null,null,null,null,null,"3100000106516",8,null,null,"3100000128616",0]
[17,null,null,null,null,null,null,"3100000116516",9,null,null,"3100000142016",2,null,null,null,null,null,null,"3100000106616",8,null,null,"3100000129716",0]
[18,null,null,null,null,null,null,"3100000118316",8,null,null,null,null,null,null,null,null,null,null,"3100000106716",9,null,null,"3100000130716",0]
[19,null,null,null,null,null,null,"3100000119016",9,null,null,null,null,null,null,null,null,null,null,"3100000106816",9,null,null,"3100000130816",0]
[20,null,null,null,null,null,null,"3100000123516",8,null,null,null,null,null,null,null,null,null,null,"3100000109616",7,null,null,"3100000130916",0]
[21,null,null,null,null,null,null,"3100000129216",6,null,null,null,null,null,null,null,null,null,null,"3100000114416",9,null,null,"3100000131016",0]
[22,null,null,null,null,null,null,"3100000129716",8,null,null,null,null,null,null,null,null,null,null,"3100000114716",8,null,null,"3100000131316",0]
[23,null,null,null,null,null,null,"3100000130616",7,null,null,null,null,null,null,null,null,null,null,"3100000115416",9,null,null,"3100000131416",0]
[24,null,null,null,null,null,null,"3100000132816",9,null,null,null,null,null,null,null,null,null,null,"3100000117116",8,null,null,"3100000131716",5]
[25,null,null,null,null,null,null,"3100000137216",7,null,null,null,null,null,null,null,null,null,null,"3100000119116",8,null,null,"3100000132116",0]
[26,null,null,null,null,null,null,"3100000140216",7,null,null,null,null,null,null,null,null,null,null,"3100000124916",9]
[27,null,null,null,null,null,null,"3100000142616",9,null,null,null,null,null,null,null,null,null,null,"3100000125916",5]
[28,null,null,null,null,null,null,"3100000142916",8,null,null,null,null,null,null,null,null,null,null,"3100000126516",3]
[29,null,null,null,null,null,null,"3100000143016",8,null,null,null,null,null,null,null,null,null,null,"3100000126916",9]
[30,null,null,null,null,null,null,"3100000145316",9,null,null,null,null,null,null,null,null,null,null,"3100000127616",0]
[31,null,null,null,null,null,null,"3100000145816",9,null,null,null,null,null,null,null,null,null,null,"3100000128016",0]
[32,null,null,null,null,null,null,"3100000147316",9,null,null,null,null,null,null,null,null,null,null,"3100000128116",0]
[33,null,null,null,null,null,null,null,null,null,null,null,null,null,null,null,null,null,null,"3100000128416",5]
[34,null,null,null,null,null,null,null,null,null,null,null,null,null,null,null,null,null,null,"3100000128816",7]
[35,null,null,null,null,null,null,null,null,null,null,null,null,null,null,null,null,null,null,"3100000130416",5]
[36,null,null,null,null,null,null,null,null,null,null,null,null,null,null,null,null,null,null,"3100000132016",4]
[37,null,null,null,null,null,null,null,null,null,null,null,null,null,null,null,null,null,null,"3100000133316",0]
[38,null,null,null,null,null,null,null,null,null,null,null,null,null,null,null,null,null,null,"3100000134116",9]
[39,null,null,null,null,null,null,null,null,null,null,null,null,null,null,null,null,null,null,"3100000137416",3]
[40,null,null,null,null,null,null,null,null,null,null,null,null,null,null,null,null,null,null,"3100000137516",8]
[41,null,null,null,null,null,null,null,null,null,null,null,null,null,null,null,null,null,null,"3100000139716",9]
[42,null,null,null,null,null,null,null,null,null,null,null,null,null,null,null,null,null,null,"3100000140016",9]
[43,null,null,null,null,null,null,null,null,null,null,null,null,null,null,null,null,null,null,"3100000141216",7]
[44,null,null,null,null,null,null,null,null,null,null,null,null,null,null,null,null,null,null,"3100000144116",8]
[45,null,null,null,null,null,null,null,null,null,null,null,null,null,null,null,null,null,null,"3100000144316",9]
[46,null,null,null,null,null,null,null,null,null,null,null,null,null,null,null,null,null,null,"3100000144716",9]
[47,null,null,null,null,null,null,null,null,null,null,null,null,null,null,null,null,null,null,"3100000145916",9]
[48,null,null,null,null,null,null,null,null,null,null,null,null,null,null,null,null,null,null,"3100000146216",8]
[49,null,null,null,null,null,null,null,null,null,null,null,null,null,null,null,null,null,null,"3100000146516",8]
[]
[null,"PROMEDIO",{"$f":"AVERAGE(C11:C60)","v":6.4285714285714288},"PROMEDIO",{"$f":"AVERAGE(E11:E60)","v":7.5},"PROMEDIO",{"$f":"AVERAGE(G11:G60)","v":3.6},"PROMEDIO",{"$f":"AVERAGE(I11:I60)","v":7.9375},"PROMEDIO",{"$f":"AVERAGE(K11:K60)","v":5.2},"PROMEDIO",{"$f":"AVERAGE(M11:M60)","v":4.117647058823529},"PROMEDIO",{"$f":"AVERAGE(O11:O60)","v":6.9333333333333336},"PROMEDIO",{"$f":"AVERAGE(Q11:Q60)","v":3},"PROMEDIO",{"$f":"AVERAGE(S11:S60)","v":4.2142857142857144},"PROMEDIO",{"$f":"AVERAGE(U11:U60)","v":6.4897959183673466},"PROMEDIO",{"$f":"AVERAGE(W11:W60)","v":1.75},"PROMEDIO",{"$f":"AVERAGE(Y11:Y60)","v":4.6399999999999997}]
[null,"No. Solicitudes",{"$f":"COUNT(C11:C60)","v":14},null,{"$f":"COUNT(E11:E60)","v":16},null,{"$f":"COUNT(G11:G60)","v":5},null,{"$f":"COUNT(I11:I60)","v":32},null,{"$f":"COUNT(K11:K60)","v":5},null,{"$f":"COUNT(M11:M60)","v":17},null,{"$f":"COUNT(O11:O60)","v":15},null,{"$f":"COUNT(Q11:Q60)","v":1},null,{"$f":"COUNT(S11:S60)","v":14},null,{"$f":"COUNT(U11:U60)","v":49},null,{"$f":"COUNT(W11:W60)","v":4},null,{"$f":"COUNT(Y11:Y60)","v":25},{"$f":"SUM(C62,E62,G62,I62,K62,M62,O62,Q62,S62,U62,W62,Y62)","v":197}]

{"sheet":"18 DÍAS (1 UA)","index":1,"n_rows":15,"n_cols":25,"rows_kept":15,"cut":false,"hidden":false,"merged":[[6,27,6,28],[6,15,6,16],[6,17,6,18],[6,19,6,20],[6,21,6,22],[6,23,6,24],[6,25,6,26],[0,3,0,8],[4,1,4,24],[5,1,5,24],[6,1,6,2],[6,3,6,4],[6,5,6,6],[6,7,6,8],[6,9,6,10],[6,11,6,12],[6,13,6,14]]}
[]
[]
[null,null,"FOLIOS PENDIENTES A LA FECHA DE REPORTE"]
[]
[null,"TIEMPO DE ATENCIÓN A SOLICITUDES DE INFORMACIÓN, FOLIOS DEL 05 DE MAYO AL 03 DE OCTUBRE DE 2016"]
[null,"ATENDIDAS POR \"UNA UNIDAD ADMINISTRATIVA\" (20 DÍAS HÁBILES)"]
[null,"Secretaría Técnica",null,"Secretaría Ejecutiva",null,"Contraloría",null,"Dirección Jurídica y Desarrollo Normativo",null,"Dirección de Capacitación y Cultura de la Transparencia",null,"Dirección de Evaluación y Estudios",null,"Dirección de Datos Personales",null,"Dirección de Vinculación con la Sociedad",null,"Dirección de Tecnologías de Información",null,"Dirección de Administración y Finanzas",null,"Dirección de Comunicación Social",null,"Unidad de Transparencia"]
[null,"Folio","Días","Folio","Días","Folio","Días","Folio","Días","Folio","Días","Folio","Días","Folio","Días","Folio","Días","Folio","Días","Folio","Días","Folio","Días","Folio","Días"]
[1,null,null,null,null,null,null,"3100000129016",14,null,null,null,null,"3100000113816",10,null,null,null,null,"3100000105416",18]
[2,null,null,null,null,null,null,"3100000134916",14,null,null,null,null,null,null,null,null,null,null,"3100000136216",18]
[3,null,null,null,null,null,null,null,null,null,null,null,null,null,null,null,null,null,null,"3100000137716",18]
[4,null,null,null,null,null,null,null,null,null,null,null,null,null,null,null,null,null,null,"3100000144616",16]
[5,null,null,null,null,null,null,null,null,null,null,null,null,null,null,null,null,null,null,"3100000144816",18]
[12]
[null,"PROMEDIO",{"$f":"AVERAGE(C9:C14)","v":{"$error":"#DIV/0!"}},"PROMEDIO",{"$f":"AVERAGE(E9:E14)","v":{"$error":"#DIV/0!"}},"PROMEDIO",{"$f":"AVERAGE(G9:G14)","v":{"$error":"#DIV/0!"}},"PROMEDIO",{"$f":"AVERAGE(I9:I14)","v":14},"PROMEDIO",{"$f":"AVERAGE(K9:K14)","v":{"$error":"#DIV/0!"}},"PROMEDIO",{"$f":"AVERAGE(M9:M14)","v":{"$error":"#DIV/0!"}},"PROMEDIO",{"$f":"AVERAGE(O9:O14)","v":10},"PROMEDIO",{"$f":"AVERAGE(Q9:Q14)","v":{"$error":"#DIV/0!"}},"PROMEDIO",{"$f":"AVERAGE(S9:S14)","v":{"$error":"#DIV/0!"}},"PROMEDIO",{"$f":"AVERAGE(U9:U14)","v":17.600000000000001},"PROMEDIO",{"$f":"AVERAGE(W9:W14)","v":{"$error":"#DIV/0!"}},"PROMEDIO",{"$f":"AVERAGE(Y9:Y14)","v":{"$error":"#DIV/0!"}}]

{"sheet":"9 DÍAS (2 o más UA)","index":2,"n_rows":80,"n_cols":14,"rows_kept":80,"cut":false,"hidden":false,"merged":[[4,16,4,17],[4,1,5,1],[4,14,4,15],[2,1,2,13],[3,1,3,13]]}
[null,null,"FOLIOS PENDIENTES A LA FECHA DE REPORTE"]
[]
[null,"                               TIEMPO DE ATENCIÓN A SOLICITUDES DE INFORMACIÓN, FOLIOS DEL 05 DE MAYO AL 03 DE OCTUBRE DE 2016"]
[null,"ATENDIDAS POR \"DOS O MÁS UNIDADES ADMINISTRATIVAS\" (10 DÍAS HÁBILES)"]
[null,"Folio","Secretaría Técnica","Secretaría Ejecutiva","Contraloría","Dirección Jurídica y Desarrollo Normativo","Dirección de Capacitación y Cultura de la Transparencia","Dirección de Evaluación y Estudios","Dirección de Datos Personales","Dirección de Vinculación con la Sociedad","Dirección de Tecnologías de Información","Dirección de Administración y Finanzas","Dirección de Comunicación Social","Unidad de Transparencia"]
[null,null,"Días","Días","Días","Días","Días","Días","Días","Días","Días","Días","Días","Días"]
[1,3100000077616,null,null,null,7,null,null,7]
[2,3100000077716,null,null,null,7,null,null,7]
[3,3100000077816,null,null,null,7,null,null,7]
[4,3100000077916,null,null,null,7,null,null,7]
[5,3100000078016,null,null,null,7,null,null,7]
[6,3100000078216,null,null,null,7,null,null,7]
[7,3100000078316,null,null,null,7,null,null,7]
[8,3100000078416,null,null,null,7,null,null,7]
[9,3100000079316,null,null,null,6,null,null,6]
[10,3100000079416,null,null,null,6,null,null,6]
[11,3100000081116,null,null,null,7,null,null,null,null,4,null,2]
[12,3100000081216,null,null,null,7,null,null,null,null,4,null,2]
[13,3100000083616,null,null,null,null,5,null,null,4]
[14,3100000102016,null,null,null,9,null,null,null,null,null,9]
[15,3100000102816,null,null,null,8,null,null,null,null,null,null,null,1]
[16,3100000102916,null,9,3,9,2,2,7,4,3,8,2]
[17,3100000103816,1,null,null,7]
[18,3100000104016,null,null,null,9,null,null,7]
[19,3100000104916,null,null,null,null,null,null,null,null,null,9,null,3]
[20,3100000106116,null,null,null,9,null,4,null,null,3,null,null,2]
[21,3100000107716,null,null,null,9,null,null,null,null,null,7]
[22,3100000108916,9,null,null,null,null,null,9]
[23,3100000109216,9,8,6,8,7,9,8,8,8,6,8]
[24,3100000109716,9,8,6,8,7,9,8,8,8,6,8]
[25,3100000109916,null,null,null,null,null,9,8,null,null,7]
[26,3100000110216,9,8,6,9,7,9,8,8,8,6,8]
[27,3100000110316,9,8,6,9,7,9,8,8,8,6,8]
[28,3100000110416,9,8,6,8,7,9,8,8,8,6,8]
[29,3100000110716,9,8,6,9,7,9,8,8,8,6,8]
[30,3100000110816,null,null,null,8,null,null,null,null,null,null,null,9]
[31,3100000110916,null,null,null,null,null,null,null,null,8,6]
[32,3100000111016,9,8,6,9,7,9,8,8,8,6,8]
[33,3100000111216,9,8,6,8,7,9,8,8,8,6,8]
[34,3100000111316,9,8,6,8,7,9,8,8,8,6,8]
[35,3100000111416,9,8,6,9,7,9,8,8,8,6,8]
[36,3100000114116,null,null,null,9,null,null,null,null,null,null,null,0]
[37,3100000114316,null,null,null,null,5,7,null,null,null,6]
[38,3100000114516,8,6,3,6,4,6,5,5,6,8,7]
[39,3100000115516,null,8,null,null,null,null,null,7]
[40,3100000115716,null,8,null,null,null,null,null,null,null,7]
[41,3100000116616,null,8,null,null,7,null,9,6]
[42,3100000116816,null,null,2,9,9,null,null,null,6,7]
[43,3100000117916,null,null,null,null,6,null,8]
[44,3100000118616,null,null,2,9,null,null,null,null,7]
[45,3100000118916,null,null,null,null,null,3,8]
[46,3100000120216,null,null,null,9,null,7,null,null,3]
[47,3100000121316,null,null,null,9,null,7,9]
[48,3100000122416,null,null,null,null,null,null,null,null,null,9,null,1]
[49,3100000123416,null,null,null,8,null,null,null,null,4]
[50,3100000124816,null,null,null,null,7,null,null,null,null,9]
[51,3100000126216,null,null,null,null,null,4,null,null,null,null,null,0]
[52,3100000126416,null,null,null,null,null,null,null,null,null,9,null,0]
[53,3100000127716,null,9,null,null,null,null,null,7,null,9]
[54,3100000132716,null,null,null,8,null,null,null,null,2]
[55,3100000132916,null,null,null,7,null,null,null,null,2]
[56,3100000133716,9,null,null,8,null,2]
[57,3100000134016,null,null,null,9,null,null,null,null,9]
[58,3100000135616,4,null,null,7]
[59,3100000138116,3,7,6,9,7,2,9,6,3,7,7]
[60,3100000138316,3,7,6,7,7,2,9,7,3,2,7]
[61,3100000139016,null,null,null,null,null,null,null,null,null,7,null,0]
[62,3100000139816,7,null,null,6,6]
[63,"3100000140916",null,null,null,9,null,null,null,null,2]
[64,"3100000141516",null,null,null,null,null,4,null,null,null,null,null,0]
[65,"3100000142316",null,null,null,null,null,4,null,null,5]
[66,"3100000142416",3,null,null,2,2]
[67,"3100000143216",null,null,8,0]
[68,"3100000144016",null,5,null,9]
[69,"3100000145016",9,null,null,9]
[70,"3100000145216",null,null,null,9,null,null,9]
[71,"3100000147016",null,null,8,null,null,null,null,null,null,8]
[]
[null,"PROMEDIO",{"$f":"AVERAGE(C7:C78)","v":7.3},{"$f":"AVERAGE(D7:D78)","v":7.7368421052631575},{"$f":"AVERAGE(E7:E78)","v":5.4444444444444446},{"$f":"AVERAGE(F7:F78)","v":7.7058823529411766},{"$f":"AVERAGE(G7:G78)","v":6.2272727272727275},{"$f":"AVERAGE(H7:H78)","v":6.375},{"$f":"AVERAGE(I7:I78)","v":7.65625},{"$f":"AVERAGE(J7:J78)","v":7},{"$f":"AVERAGE(K7:K78)","v":5.7037037037037033},{"$f":"AVERAGE(L7:L78)","v":6.9285714285714288},{"$f":"AVERAGE(M7:M78)","v":6.6875},{"$f":"AVERAGE(N7:N78)","v":1.6}]
[null,"NÚMERO DE SOLICITUDES",{"$f":"COUNT(B7:B78)","v":62}]

{"sheet":"18 DÍAS (2 o más UA)","index":3,"n_rows":13,"n_cols":14,"rows_kept":13,"cut":false,"hidden":false,"merged":[[4,16,4,17],[0,6,0,8],[2,1,2,13],[3,1,3,13],[4,1,5,1],[4,14,4,15]]}
[null,null,"FOLIOS PENDIENTES A LA FECHA DE REPORTE",null,null,null,"No ampliaron plazo, no se cuenta para el promedio"]
[]
[null,"TIEMPO DE ATENCIÓN A SOLICITUDES DE INFORMACIÓN, FOLIOS DEL 05 DE MAYO AL 03 DE OCTUBRE DE 2016"]
[null,"ATENDIDAS POR \"DOS O MÁS UNIDADES ADMINISTRATIVAS\" (20 DÍAS HÁBILES)"]
[null,"Folio","Secretaría Técnica","Secretaría Ejecutiva","Contraloría","Dirección Jurídica y Desarrollo Normativo","Dirección de Capacitación y Cultura de la Transparencia","Dirección de Evaluación y Estudios","Dirección de Datos Personales","Dirección de Vinculación con la Sociedad","Dirección de Tecnologías de Información","Dirección de Administración y Finanzas","Dirección de Comunicación Social","Unidad de Transparencia"]
[null,null,"Días","Días","Días","Días","Días","Días","Días","Días","Días","Días","Días","Días"]
[1,3100000103916,18,null,null,18]
[2,3100000113616,11,null,null,null,null,null,5,null,null,16]
[3,3100000135516,null,null,null,null,null,null,null,null,11,11]
[4,"3100000144216",null,null,null,18,null,6]
[]
[null,"PROMEDIO",{"$f":"AVERAGEIF(C7:C10,\">9\")","v":14.5},{"$f":"AVERAGEIF(D7:D11,\">9\")","v":{"$error":"#DIV/0!"}},{"$f":"AVERAGEIF(E7:E11,\">9\")","v":{"$error":"#DIV/0!"}},{"$f":"AVERAGEIF(F7:F11,\">9\")","v":18},{"$f":"AVERAGEIF(G7:G11,\">9\")","v":{"$error":"#DIV/0!"}},{"$f":"AVERAGEIF(H7:H11,\">9\")","v":{"$error":"#DIV/0!"}},{"$f":"AVERAGEIF(I7:I11,\">9\")","v":{"$error":"#DIV/0!"}},{"$f":"AVERAGEIF(J7:J11,\">9\")","v":{"$error":"#DIV/0!"}},{"$f":"AVERAGEIF(K7:K11,\">9\")","v":11},{"$f":"AVERAGEIF(L7:L11,\">9\")","v":13.5},{"$f":"AVERAGEIF(M7:M11,\">9\")","v":{"$error":"#DIV/0!"}},{"$f":"AVERAGEIF(N7:N11,\">9\")","v":{"$error":"#DIV/0!"}}]
[null,"NÚMERO DE SOLICITUDES",{"$f":"COUNT(B7:B11)","v":3}]

{"sheet":"Solicitudes Acceso restringido","index":4,"n_rows":33,"n_cols":18,"rows_kept":33,"cut":false,"hidden":false,"merged":[[6,1,7,1],[4,1,4,17],[5,1,5,17]]}
[null,null,"FOLIOS PENDIENTES A LA FECHA DE REPORTE"]
[null,null,"UNIDAD ADMINISTRATIVA QUE CLASIFICÓ INFORMACIÓN"]
[null,null,"UNIDAD ADMINISTRATIVA QUE NO CLASIFICÓ INFORMACIÓN. "]
[]
[null,"TIEMPO DE ATENCIÓN A SOLICITUDES DE INFORMACIÓN, FOLIOS DEL 05 DE MAYO AL 03 DE OCTUBRE DE 2016"]
[null,"ACCESO RESTRINGIDO CONTENIDA EN LA RESPUESTA DE UNA O MÁS UNIDADES ADMINISTRATIVAS."]
[null,"Folio","Secretaría Técnica","Secretaría Ejecutiva","Contraloría","Dirección Jurídica y Desarrollo Normativo","Dirección de Capacitación y Cultura de la Transparencia","Dirección de Evaluación y Estudios","Dirección de Datos Personales","Dirección de Vinculación con la Sociedad","Dirección de Tecnologías de Información","Dirección de Administración y Finanzas","Dirección de Comunicación Social","Unidad de Transparencia","OBSERVACIONES","MODALIDAD","NO. ACUERDO / SUPUESTO LEGAL","NO. SESIÓN"]
[null,null,"Días","Días","Días","Días","Días","Días","Días","Días","Días","Días","Días","Días"]
[1,"3100000091116",null,null,null,9,null,null,null,null,null,null,null,null,"SE REUNIÓ CT","Confidencial","001/SE/CT-01-06/2016","2a SE"]
[2,"3100000091916",null,null,null,null,null,null,8,null,null,18,null,null,"SE REUNIÓ CT","Confidencial","004/SO/CT-14-06/2016","2a SO"]
[3,"3100000097516",null,null,null,null,null,null,null,null,7,null,null,null,"SE REUNIÓ CT","Confidencial","003/SO/CT-02-06/2016","1a SO"]
[4,"310000097616",null,null,null,null,null,null,null,null,null,8,null,null,"SE REUNIÓ CT","Confidencial","002/SO/CT-02-06/2016:","1a SO"]
[5,"310000097716",null,null,null,null,null,null,null,null,null,8,null,null,"SE REUNIÓ CT","Confidencial","002/SO/CT-02-06/2016:","1a SO"]
[6,"310000097816",null,null,null,null,null,null,null,null,null,8,null,null,"SE REUNIÓ CT","Confidencial","002/SO/CT-02-06/2016:","1a SO"]
[7,"3100000102516",null,null,null,null,17,null,null,null,null,18,null,null,"SE REUNIÓ CT","Confidencial","006/SO/CT-28-06/2016","3a SO"]
[8,"3100000104616",null,null,null,null,null,null,null,10,null,null,null,null,"SE REUNIÓ CT","Confidencial","005/SE/CT-22-06/2016","3a SE"]
[9,"3100000108216",null,null,null,9,null,null,null,null,null,null,null,null,"SE REUNIÓ CT","Reservada","007/SO/CT-28-06/2016","? 3a SO"]
[10,"3100000114016",null,null,null,null,9,null,null,null,null,null,null,0,"SE REUNIÓ CT","Confidencial","008/SE/CT-04-07-2016","4a SE"]
[11,"3100000118016",null,null,null,null,8,null,null,null,null,null,null,null,"SE REUNIÓ CT","Confidencial","009/SO/CT-07-07-2016","4a SO"]
[12,"3100000108616",8,null,9,8,null,null,null,null,null,9,null,null,"SE REUNIÓ CT","Confidencial","010/SE/CT-15-07-2016 ","5a SE"]
[13,"3100000118416",null,null,null,null,7,null,null,null,null,18,null,null,"SE REUNIÓ CT","Confidencial","011/SO/CT-04-08-2016","5a SO"]
[14,"3100000127116",null,null,null,6,null,null,null,null,null,null,null,null,"SE REUNIÓ CT","Confidencial","012/SE/CT-16-08-2016","6a SE"]
[15,"3100000131916",null,null,null,9,null,null,null,null,null,null,null,null,"SE REUNIÓ CT","Reservada","013/SO/CT-25-08/2016","6a SO"]
[16,"3100000129016",null,null,null,18,null,null,null,null,null,null,null,null,"SE REUNIÓ CT","Confidencial","014/SO/CT-19-09-2016","7a SO"]
[17,"3100000134916",null,null,null,18,null,null,null,null,null,null,null,null,"SE REUNIÓ CT","Reservada","015/SO/CT-19-09-2016","7a SO"]
[18,"3100000136216",null,null,null,null,null,null,null,null,null,18,null,null,"SE REUNIÓ CT","Confidencial","017/SO/CT-23-09-2016","8a SO"]
[19,"3100000143216",null,null,8,0,null,null,null,null,null,null,null,null,"SE REUNIÓ CT","Confidencial","018/SO/CT-13-10-2016","9a SO"]
[]
[null,"PROMEDIO",{"$f":"SumbyColor($B$2,C9:C28)/CountCcolor($B$2,C9:C28)","v":{"$error":"#DIV/0!"}},{"$f":"SumbyColor($B$2,D9:D28)/CountCcolor($B$2,D9:D28)","v":{"$error":"#DIV/0!"}},{"$f":"SumbyColor($B$2,E9:E28)/CountCcolor($B$2,E9:E28)","v":8.5},{"$f":"SumbyColor($B$2,F9:F28)/CountCcolor($B$2,F9:F28)","v":11.5},{"$f":"SumbyColor($B$2,G9:G28)/CountCcolor($B$2,G9:G28)","v":8.5},{"$f":"SumbyColor($B$2,H9:H28)/CountCcolor($B$2,H9:H28)","v":{"$error":"#DIV/0!"}},{"$f":"SumbyColor($B$2,I9:I28)/CountCcolor($B$2,I9:I28)","v":{"$error":"#DIV/0!"}},{"$f":"SumbyColor($B$2,J9:J28)/CountCcolor($B$2,J9:J28)","v":10},{"$f":"SumbyColor($B$2,K9:K28)/CountCcolor($B$2,K9:K28)","v":7},{"$f":"SumbyColor($B$2,L9:L28)/CountCcolor($B$2,L9:L28)","v":13.714285714285714},{"$f":"SumbyColor($B$2,M9:M28)/CountCcolor($B$2,M9:M28)","v":{"$error":"#DIV/0!"}},{"$f":"SumbyColor($B$2,N9:N28)/CountCcolor($B$2,N9:N28)","v":{"$error":"#DIV/0!"}}]
[null,"9 días",{"$f":"SumbyColor($B$3,C9:C28)/CountCcolor($B$3,C9:C28)","v":8},{"$f":"SumbyColor($B$3,D9:D28)/CountCcolor($B$3,D9:D28)","v":{"$error":"#DIV/0!"}},{"$f":"SumbyColor($B$3,E9:E28)/CountCcolor($B$3,E9:E28)","v":{"$error":"#DIV/0!"}},{"$f":"SumbyColor($B$3,F9:F28)/CountCcolor($B$3,F9:F28)","v":4},{"$f":"SumbyColor($B$3,G9:G28)/CountCcolor($B$3,G9:G28)","v":12},{"$f":"SumbyColor($B$3,H9:H28)/CountCcolor($B$3,H9:H28)","v":{"$error":"#DIV/0!"}},{"$f":"SumbyColor($B$3,I9:I28)/CountCcolor($B$3,I9:I28)","v":8},{"$f":"SumbyColor($B$3,J9:J28)/CountCcolor($B$3,J9:J28)","v":{"$error":"#DIV/0!"}},{"$f":"SumbyColor($B$3,K9:K28)/CountCcolor($B$3,K9:K28)","v":{"$error":"#DIV/0!"}},{"$f":"SumbyColor($B$3,L9:L28)/CountCcolor($B$3,L9:L28)","v":9},{"$f":"SumbyColor($B$3,M9:M28)/CountCcolor($B$3,M9:M28)","v":{"$error":"#DIV/0!"}},{"$f":"SumbyColor($B$3,N9:N28)/CountCcolor($B$3,N9:N28)","v":0}]
[]
[null,null,null,null,null,null,null,null,null,null,null,null,null,null,null,null,"CRITERIO PLENO","7a CRITERIO"]
[null,null,null,null,null,null,null,null,null,null,null,null,null,null,null,null,"SE REUNIÓ CT","7a SE"]

{"sheet":"3 DÍAS (UT)","index":5,"n_rows":332,"n_cols":5,"rows_kept":332,"cut":false,"hidden":false,"merged":[[319,1,319,2],[320,1,320,2],[321,1,321,2],[322,1,322,2],[323,1,323,2],[297,1,297,2],[298,1,298,2],[299,1,299,2],[300,1,300,2],[301,1,301,2],[302,1,302,2],[303,1,303,2],[304,1,304,2],[305,1,305,2],[306,1,306,2],[307,1,307,2],[308,1,308,2],[309,1,309,2],[310,1,310,2],[311,1,311,2],[312,1,312,2],[313,1,313,2],[314,1,314,2],[315,1,315,2],[316,1,316,2],[317,1,317,2],[318,1,318,2],[5,1,5,2],[6,1,6,2],[7,1,7,2],[8,1,8,2],[9,1,9,2],[10,1,10,2],[4,3,4,4],[2,1,3,9],[4,1,4,2],[17,1,17,2],[18,1,18,2],[19,1,19,2],[20,1,20,2],[21,1,21,2],[22,1,22,2],[11,1,11,2],[12,1,12,2],[13,1,13,2],[14,1,14,2],[15,1,15,2],[16,1,16,2],[29,1,29,2],[30,1,30,2],[31,1,31,2],[32,1,32,2],[33,1,33,2],[34,1,34,2],[23,1,23,2],[24,1,24,2],[25,1,25,2],[26,1,26,2],[27,1,27,2],[28,1,28,2],[41,1,41,2],[42,1,42,2],[43,1,43,2],[44,1,44,2],[45,1,45,2],[46,1,46,2],[35,1,35,2],[36,1,36,2],[37,1,37,2],[38,1,38,2],[39,1,39,2],[40,1,40,2],[53,1,53,2],[54,1,54,2],[55,1,55,2],[56,1,56,2],[57,1,57,2],[58,1,58,2],[47,1,47,2],[48,1,48,2],[49,1,49,2],[50,1,50,2],[51,1,51,2],[52,1,52,2],[65,1,65,2],[66,1,66,2],[67,1,67,2],[68,1,68,2],[69,1,69,2],[70,1,70,2],[59,1,59,2],[60,1,60,2],[61,1,61,2],[62,1,62,2],[63,1,63,2],[64,1,64,2],[77,1,77,2],[78,1,78,2],[79,1,79,2],[80,1,80,2],[81,1,81,2],[82,1,82,2],[71,1,71,2],[72,1,72,2],[73,1,73,2],[74,1,74,2],[75,1,75,2],[76,1,76,2],[125,1,125,2],[89,1,89,2],[90,1,90,2],[91,1,91,2],[92,1,92,2],[93,1,93,2],[94,1,94,2],[83,1,83,2],[84,1,84,2],[85,1,85,2],[86,1,86,2],[87,1,87,2],[88,1,88,2],[116,1,116,2],[117,1,117,2],[118,1,118,2],[119,1,119,2],[120,1,120,2],[121,1,121,2],[122,1,122,2],[123,1,123,2],[124,1,124,2],[95,1,95,2],[96,1,96,2],[97,1,97,2],[98,1,98,2],[99,1,99,2],[100,1,100,2],[113,1,113,2],[114,1,114,2],[115,1,115,2],[105,1,105,2],[106,1,106,2],[107,1,107,2],[108,1,108,2],[109,1,109,2],[110,1,110,2],[111,1,111,2],[112,1,112,2],[101,1,101,2],[102,1,102,2],[103,1,103,2],[104,1,104,2],[126,1,126,2],[127,1,127,2],[128,1,128,2],[129,1,129,2],[130,1,130,2],[131,1,131,2],[132,1,132,2],[133,1,133,2],[134,1,134,2],[148,1,148,2],[149,1,149,2],[150,1,150,2],[151,1,151,2],[152,1,152,2],[135,1,135,2],[136,1,136,2],[137,1,137,2],[138,1,138,2],[139,1,139,2],[140,1,140,2],[141,1,141,2],[142,1,142,2],[143,1,143,2],[144,1,144,2],[145,1,145,2],[146,1,146,2],[147,1,147,2],[153,1,153,2],[173,1,173,2],[174,1,174,2],[330,1,330,2],[154,1,154,2],[162,1,162,2],[163,1,163,2],[164,1,164,2],[165,1,165,2],[166,1,166,2],[167,1,167,2],[168,1,168,2],[169,1,169,2],[170,1,170,2],[171,1,171,2],[172,1,172,2],[155,1,155,2],[156,1,156,2],[157,1,157,2],[158,1,158,2],[159,1,159,2],[160,1,160,2],[161,1,161,2],[184,1,184,2],[185,1,185,2],[331,1,331,3],[175,1,175,2],[176,1,176,2],[177,1,177,2],[178,1,178,2],[179,1,179,2],[180,1,180,2],[181,1,181,2],[182,1,182,2],[183,1,183,2],[186,1,186,2],[187,1,187,2],[192,1,192,2],[193,1,193,2],[194,1,194,2],[195,1,195,2],[196,1,196,2],[197,1,197,2],[198,1,198,2],[199,1,199,2],[200,1,200,2],[201,1,201,2],[202,1,202,2],[203,1,203,2],[204,1,204,2],[205,1,205,2],[206,1,206,2],[207,1,207,2],[188,1,188,2],[189,1,189,2],[190,1,190,2],[191,1,191,2],[227,1,227,2],[228,1,228,2],[208,1,208,2],[209,1,209,2],[210,1,210,2],[211,1,211,2],[212,1,212,2],[213,1,213,2],[214,1,214,2],[215,1,215,2],[216,1,216,2],[217,1,217,2],[218,1,218,2],[219,1,219,2],[220,1,220,2],[221,1,221,2],[222,1,222,2],[223,1,223,2],[224,1,224,2],[225,1,225,2],[226,1,226,2],[229,1,229,2],[230,1,230,2],[231,1,231,2],[232,1,232,2],[233,1,233,2],[234,1,234,2],[235,1,235,2],[236,1,236,2],[237,1,237,2],[238,1,238,2],[239,1,239,2],[240,1,240,2],[241,1,241,2],[242,1,242,2],[243,1,243,2],[244,1,244,2],[245,1,245,2],[246,1,246,2],[247,1,247,2],[248,1,248,2],[249,1,249,2],[250,1,250,2],[251,1,251,2],[252,1,252,2],[253,1,253,2],[254,1,254,2],[255,1,255,2],[256,1,256,2],[257,1,257,2],[258,1,258,2],[259,1,259,2],[260,1,260,2],[261,1,261,2],[262,1,262,2],[263,1,263,2],[264,1,264,2],[265,1,265,2],[266,1,266,2],[267,1,267,2],[268,1,268,2],[269,1,269,2],[270,1,270,2],[271,1,271,2],[289,1,289,2],[272,1,272,2],[273,1,273,2],[283,1,283,2],[284,1,284,2],[285,1,285,2],[286,1,286,2],[287,1,287,2],[288,1,288,2],[290,1,290,2],[274,1,274,2],[275,1,275,2],[276,1,276,2],[294,1,294,2],[295,1,295,2],[296,1,296,2],[277,1,277,2],[278,1,278,2],[279,1,279,2],[280,1,280,2],[281,1,281,2],[282,1,282,2],[291,1,291,2],[292,1,292,2],[293,1,293,2],[324,1,324,2],[325,1,325,2],[326,1,326,2],[327,1,327,2],[328,1,328,2],[329,1,329,2]]}
[null,null,"FOLIOS PENDIENTES A LA FECHA DE REPORTE"]
[]
[null,"TIEMPO DE ATENCIÓN A SOLICITUDES DE INFORMACIÓN, FOLIOS DEL 05 DE MAYO AL 03 DE OCTUBRE DE 2016"]
[]
[null,null,null,"Unidad de Transparencia"]
[null,"Orientación",null,"Folio","Días"]
[1,"Sría Finanzas, CG, OM, JG",null,"3100000075616",0]
[{"$f":"SUM(A7+1)","v":2},"Sría Finanzas, CG, OM, JG",null,"3100000075716",0]
[{"$f":"SUM(A8+1)","v":3},"INAI",null,"3100000076316",1]
[4,"INAI",null,"3100000076416",1]
[5,"INAI",null,"3100000076516",1]
[6,"INAI",null,"3100000076616",1]
[7,"INAI",null,"3100000076716",1]
[8,"INAI",null,"3100000076816",1]
[9,"INAI",null,"3100000076916",1]
[10,"INVI",null,"3100000077116",2]
[11,"PGJDF",null,"3100000077216",1]
[12,"SHCP",null,"3100000077316",1]
[13,"SEMOVI, DEL. BJ",null,"3100000078116",2]
[14,"SEDECO, 16 DELEGS",null,"3100000078816",0]
[15,"SEDECO, 16 DELEGS",null,"3100000078916",0]
[16,"SEDECO, 16 DELEGS",null,"3100000079016",1]
[17,"SEDECO, 16 DELEGS",null,"3100000079116",0]
[18,"SCT, GACDMX",null,"3100000079816",1]
[19,"SCT, GACDMX",null,"3100000079916",1]
[20,"SCT, GACDMX",null,"3100000080016",1]
[21,"SCT, GACDMX",null,"3100000080116",1]
[22,"INAI",null,"3100000080816",1]
[23,"DEL. TLALPAN, SEDUVI",null,"3100000081316",1]
[24,"TRIBUNALES",null,"3100000081416",1]
[25,"TRIBUNALES",null,"3100000081516",1]
[26,"TRIBUNALES",null,"3100000081616",1]
[27,"CNBV",null,"3100000081816",0]
[28,"CNBV",null,"3100000081916",0]
[29,"CNBV",null,"3100000082016",0]
[30,"CNBV",null,"3100000082116",0]
[31,"CNBV",null,"3100000082216",0]
[32,"CNBV",null,"3100000082316",0]
[33,"CNBV",null,"3100000082416",0]
[34,"SEDUVI, PAOT, INVEA, DEL. AO",null,"3100000083416",0]
[35,"PEMEX",null,"3100000083716",0]
[36,"SRÍA SALUD-DF",null,"3100000083816",1]
[37,"SRÍA SALUD-DF",null,"3100000083916",1]
[38,"PEMEX EXPLORACIÓN",null,"3100000084016",0]
[39,"INAI",null,"3100000084716",1]
[40,"PGJDF",null,"3100000086016",0]
[41,"PGJDF",null,"3100000086116",0]
[42,"SHCP, ISSSTE",null,"3100000086216",0]
[43,"INC",null,"3100000086316",1]
[44,"INC",null,"3100000086416",1]
[45,"SF",null,"3100000086516",1]
[46,"SEDUVI  ",null,"3100000086616",0]
[47,"SEDUVI  ",null,"3100000086716",0]
[48,"SEDUVI  ",null,"3100000086816",0]
[49,"SEDUVI  ",null,"3100000086916",0]
[50,"ISSSTE",null,"3100000087016",0]
[51,"SEDUVI  ",null,"3100000087116",0]
[52,"ISSSTE",null,"3100000087216",0]
[53,"INAI",null,"3100000087816",0]
[54,"INAI",null,"3100000088016",1]
[55,"INAI",null,"3100000088116",1]
[56,"INAI",null,"3100000088216",1]
[57,"INAI",null,"3100000088316",0]
[58,"INAI",null,"3100000088416",0]
[59,"DEL. GAM",null,"3100000088516",1]
[60,"INAI",null,"3100000088616",0]
[61,"INAI",null,"3100000090616",0]
[62,"INAI",null,"3100000090716",0]
[63,"INAI",null,"3100000090816",0]
[64,"PGR, PGJDF",null,"3100000091316",1]
[65,"PGR, PGJDF",null,"3100000091416",1]
[66,"PGR, PGJDF",null,"3100000091616",0]
[{"$f":"SUM(A72+1)","v":67},"CONSEJERÍA JURÍDICA",null,"3100000092016",1]
[68,"CONSEJERÍA JURÍDICA",null,"3100000092116",1]
[69,"SSPDF, TSJDF, CJDF, PGJDF, SECGOB",null,"3100000092216",0]
[70,"INC",null,"3100000092316",0]
[71,"INC",null,"3100000092416",0]
[72,"CONSEJERÍA JURÍDICA",null,"3100000092616",1]
[73,"CONSEJERÍA JURÍDICA",null,"3100000092716",1]
[74,"SECTUR",null,"3100000092916",1]
[75,"CONSEJERÍA JURÍDICA",null,"3100000093016",1]
[76,"CONSEJERÍA JURÍDICA",null,"3100000093116",1]
[77,"CONSEJERÍA JURÍDICA",null,"3100000093216",1]
[78,"CONSEJERÍA JURÍDICA",null,"3100000093316",1]
[79,"CONSEJERÍA JURÍDICA",null,"3100000093416",1]
[80,"CONSEJERÍA JURÍDICA",null,"3100000093516",1]
[81,"CONSEJERÍA JURÍDICA",null,"3100000093616",1]
[82,"CONSEJERÍA JURÍDICA",null,"3100000093716",1]
[83,"CONSEJERÍA JURÍDICA",null,"3100000093816",0]
[84,"CONSEJERÍA JURÍDICA",null,"3100000093916",0]
[85,"H. CÁMARA DE DIPUTADOS",null,"3100000094416",1]
[86,"INAI",null,"3100000094616",2]
[87,"UNAM, INBA",null,"3100000094716",2]
[88,"PRESIDENCIA REP., JUDICATURA",null,"3100000094816",2]
[89,"PRESIDENCIA REP., JUDICATURA",null,"3100000094916",2]
[90,"INE",null,"3100000095016",0]
[91,"INE",null,"3100000095116",0]
[92,"INE",null,"3100000095216",0]
[93,"INE",null,"3100000095416",0]
[94,"SF, SEDUVI, DEL. IZTAP, REG. PUB.",null,"3100000095516",2]
[95,"SF, SEDUVI, DEL. IZTAP, REG. PUB.",null,"3100000095616",2]
[96,"SF, SEDUVI, DEL. IZTAP, REG. PUB.",null,"3100000095716",2]
[97,"SF, SEDUVI, DEL. IZTAP, REG. PUB.",null,"3100000095816",2]
[98,"IMSS",null,"3100000096016",1]
[99,"IMSS",null,"3100000096116",1]
[100,"INE",null,"3100000096216",1]
[101,"CONSAR",null,"3100000096316",1]
[102,"ASCDMX",null,"3100000096416",1]
[103,"INAI",null,"3100000096516",1]
[104,"INAI",null,"3100000096616",1]
[105,"INAI",null,"3100000096716",1]
[106,"INAI",null,"3100000096816",1]
[107,"INAI",null,"3100000096916",1]
[108,"INAI",null,"3100000097016",1]
[109,"PROSOC, TSJDF, DIF-DF, DIF, ",null,"3100000097116",1]
[110,"SSPDF, TSJDF, CJDF, PGJDF, SECGOB",null,"3100000097416",0]
[111,"IMSS",null,"3100000097916",0]
[112,"TODOS LOS PARTIDOS POLÍTICOS CDMX",null,"3100000098016",0]
[113,"SCJN",null,"3100000098216",0]
[114,"OROCURADURÍA Q. ROO",null,"3100000098616",0]
[115,"CONSAR",null,"3100000098816",0]
[116,"PGJDF, CONTRALORÍA GRAL.",null,"3100000098916",0]
[117,"IMSS",null,"3100000099016",0]
[118,"PGJDF, CONTRALORÍA GRAL.",null,"3100000099116",0]
[119,"PGJDF, CONTRALORÍA GRAL.",null,"3100000099216",0]
[120,"PGJDF, CONTRALORÍA GRAL.",null,"3100000099316",0]
[121,"PGJDF, CONTRALORÍA GRAL.",null,"3100000099416",0]
[122,"PGJDF, CONTRALORÍA GRAL.",null,"3100000099516",0]
[123,"PGJDF, CONTRALORÍA GRAL.",null,"3100000099716",0]
[124,"PGJDF, CONTRALORÍA GRAL.",null,"3100000099816",0]
[125,"SEMOVI, DEL. CUAJIMALPA",null,"3100000099916",0]
[126,"PGJDF, CONTRALORÍA GRAL.",null,"3100000100016",1]
[127,"PGJDF, CONTRALORÍA GRAL.",null,"3100000100116",1]
[128,"PGJDF, CONTRALORÍA GRAL.",null,"3100000100216",0]
[129,"PGJDF, CONTRALORÍA GRAL.",null,"3100000100516",0]
[130,"PGJDF, CONTRALORÍA GRAL.",null,"3100000100616",0]
[{"$f":"SUM(A136+1)","v":131},"PGJDF, CONTRALORÍA GRAL.",null,"3100000101016",0]
[132,"PGJDF, CONTRALORÍA GRAL.",null,"3100000101116",0]
[133,"PBI, CONTRALORÍA GRAL.",null,"3100000101216",0]
[134,"PGJDF, CONTRALORÍA GRAL.",null,"3100000101416",0]
[135,"PGJDF, CONTRALORÍA GRAL.",null,"3100000101516",0]
[136,"PGJDF, CONTRALORÍA GRAL.",null,"3100000101616",0]
[137,"PGJDF, CONTRALORÍA GRAL.",null,"3100000101716",0]
[138,"PGJDF, CONTRALORÍA GRAL.",null,"3100000101816",0]
[139,"PGJDF, CONTRALORÍA GRAL.",null,"3100000101916",0]
[140,"PGJDF, CONTRALORÍA GRAL.",null,"3100000102216",0]
[141,"SRE ",null,"3100000102716",1]
[142,"SSPDF  ",null,"3100000103316",2]
[143,"PGJDF",null,"3100000103416",2]
[144,"STC",null,"3100000103716",1]
[145,"ISSSTE",null,"3100000104216",2]
[146,"INM",null,"3100000104316",2]
[147,"SEDECO, 16 DELEGS",null,"3100000104416",1]
[148,"PGJDF, OFICIALÍA MAYOR",null,"3100000104816",1]
[149,"SCT, STC, SRÍA OBRAS",null,"3100000105216",0]
[150,"IMSS",null,"3100000105516",0]
[151,"SCJN. CAMARA DIPS, SENADO",null,"3100000105716",1]
[152,"INAI",null,"3100000105816",0]
[153,"SEMARNAT, PROFEPA",null,"3100000106216",0]
[154,"TSJDF, CJDF, CDHDF, SDIFDF, CJF",null,"3100000107016",0]
[155,"ISSSTE",null,"3100000107116",0]
[156,"ISSSTE",null,"3100000107216",0]
[157,"TSJDF  ",null,"3100000107316",0]
[158,"JGDF",null,"3100000107416",0]
[159,"SSPDF",null,"3100000107516",0]
[160,"ALDF",null,"3100000107616",3]
[161,"ISSSTE",null,"3100000107816",0]
[162,"SEDESO",null,"3100000108416",0]
[163,"OM, SERVIMET",null,"3100000108516",0]
[164,"SMA",null,"3100000108816",0]
[165,"SSPDF",null,"3100000109016",0]
[166,"SSPDF",null,"3100000109116",0]
[167,"IPN",null,"3100000112916",1]
[168,"IPN",null,"3100000113016",1]
[169,"IPN",null,"3100000113116",1]
[170,"IPN",null,"3100000113216",1]
[171,"SEDESO, SDIF-DF",null,"3100000114616",0]
[172,"IMSS",null,"3100000114816",1]
[173,"CFE, INEGI",null,"3100000115016",0]
[174,"CFE, INEGI",null,"3100000115116",0]
[175,"IEDF",null,"3100000115916",0]
[176,"DEL. IZTAPALAPA",null,"3100000116016",0]
[177,"M1, SEMOVI, STC, MB, INDEPI, SDIF-DF, OM, ILIE, 16 DELEGS",null,"3100000116116",0]
[178,"UACM, UNAM, UAM",null,"3100000117216",0]
[179,"DEL. IZTAPALAPA",null,"3100000117316",0]
[180,"IEDF",null,"3100000117516",0]
[181,"DEL. IZTAPALAPA",null,"3100000117616",0]
[182,"PEMEX",null,"3100000117816",0]
[183,"PEMEX",null,"3100000118516",0]
[184,"REGISTRO PUBLICO MINERO",null,"3100000118716",0]
[185,"INBA",null,"3100000119216",0]
[186,"IMSS",null,"3100000119316",0]
[187,"SEMOVI",null,"3100000119516",0]
[188,"SFP",null,"3100000119616",1]
[189,"JLCA",null,"3100000119716",1]
[190,"SRÍA SALUD-DF",null,"3100000119816",0]
[191,"DEL. MAGDALENA CONTRERAS",null,"3100000119916",0]
[192,"DEL. GAM",null,"3100000120016",1]
[193,"16 DELGS. SEDUVI",null,"3100000120116",1]
[194,"SHCP",null,"3100000120316",0]
[{"$f":"SUM(A200+1)","v":195},"SERV. SALUD PÚBLICA-DF",null,"3100000120516",0]
[196,"SSP-DF",null,"3100000120616",0]
[197,"IMSS",null,"3100000120816",0]
[198,"INVI, CONSEJRÍA JURÍDICA",null,"3100000121016",0]
[199,"IPN",null,"3100000121216",1]
[200,"SG, SSP, PGJDF, CJSL, JG",null,"3100000121416",3]
[201,"SRÍA. GOB",null,"3100000121516",0]
[202,"SRÍA. GOB",null,"3100000121616",0]
[203,"SRÍA. GOB",null,"3100000121716",0]
[204,"SRÍA. GOB",null,"3100000121816",0]
[205,"SRÍA. GOB, TSJDF",null,"3100000121916",0]
[206,"SRÍA. GOB, TSJDF",null,"3100000122016",0]
[207,"PGJDF",null,"3100000122116",0]
[208,"PGJDF",null,"3100000122216",0]
[209,"SACM",null,"3100000122516",0]
[210,"SEMOVI",null,"3100000122616",0]
[211,"SEMOVI",null,"3100000122716",0]
[212,"SEMOVI",null,"3100000122816",0]
[213,"SEMOVI",null,"3100000122916",0]
[214,"SEDUVI, CJSL, SG",null,"3100000123016",0]
[215,"SEDUVI, CJSL, SG",null,"3100000123116",0]
[216,"IMSS",null,"3100000123216",0]
[217,"PRD",null,"3100000123616",1]
[218,"PES",null,"3100000123716",1]
[219,"NVA ALIANZA",null,"3100000123816",1]
[220,"PRI",null,"3100000123916",1]
[221,"PVEM",null,"3100000124016",0]
[222,"Contraloría General",null,"3100000124116",0]
[223,"Del. V.C.",null,"3100000124216",0]
[224,"Del. Coyoacán, Contraloría General",null,"3100000124416",0]
[225,"JFCA",null,"3100000124516",0]
[226,"Pénjamo, Gto.",null,"3100000124716",1]
[227,"IMSS",null,"3100000125316",0]
[228,"Del. Iztapalapa",null,"3100000125516",0]
[229,"SEDUVI",null,"3100000125616",0]
[230,"Sría. Finanzas, SEDESO",null,"3100000125716",0]
[231,"CJSL",null,"3100000125816",0]
[232,"Del. Xochimilco",null,"3100000126116",0]
[233,"STC Metro",null,"3100000126316",1]
[234,"IPN",null,"3100000126716",0]
[235,"IPN",null,"3100000126816",0]
[236,"INAI",null,"3100000127216",0]
[237,"SEDUVI",null,"3100000127316",0]
[238,"DEL. IZTAPALAPA",null,"3100000127816",0]
[239,"SSP-DF",null,"3100000128216",0]
[240,"INDAABIN",null,"3100000128316",0]
[241,"PROSOC",null,"3100000129616",0]
[242,"SMA",null,"3100000129816",0]
[243,"SMA",null,"3100000130016",0]
[244,"SMA",null,"3100000130116",0]
[245,"CJSL",null,"3100000131116",0]
[246,"CJSL",null,"3100000131216",0]
[247,"VARIOS",null,"3100000131516",0]
[248,"SMA",null,"3100000131816",0]
[249,"M1",null,"3100000132216",0]
[250,"PROFECO",null,"3100000132316",0]
[251,"SEMOVI",null,"3100000132516",0]
[252,"-",null,"3100000133216",0]
[253,"SSP-DF",null,"3100000133416",0]
[252,"MOVIMIENTO CIUDADANO",null,"3100000133516",0]
[253,"MOVIMIENTO CIUDADANO",null,"3100000133616",0]
[254,"SRÍA DE GOBIERNO",null,"3100000133816",0]
[253,"INVI  ",null,"3100000134316",0]
[254,"ALDF",null,"3100000134416",0]
[{"$f":"SUM(A264+1)","v":255},"IMSS",null,"3100000134516",0]
[254,"IMSS",null,"3100000134616",0]
[255,"AEP, DEL. CUAUHTÉMOC",null,"3100000134716",0]
[256,"Sría Finanzas",null,"3100000134816",0]
[255,"SHCP, UNAM",null,"3100000135016",0]
[256,"16 DELEGS",null,"3100000135216",0]
[257,"SRÍA. CULTURA",null,"3100000135316",0]
[256,"SEDUVI, DEL. VC",null,"3100000135416",0]
[257,"IEDF",null,"3100000135916",0]
[{"$f":"SUM(A273+1)","v":258},"INEGI",null,"3100000136316",0]
[259,"CHIMALHUACÁN",null,"3100000136416",0]
[258,"IFT, SCT",null,"3100000136516",0]
[259,"Sría Finanzas",null,"3100000136716",0]
[260,"Inst. Mex. Petróleo",null,"3100000136816",0]
[261,"J.A.P.",null,"3100000136916",0]
[260,"Inst. Nac. De la Economía Soc. ",null,"3100000137016",0]
[261,"INDEPI",null,"3100000137116",0]
[262,"SEP",null,"3100000137316",0]
[263,"IFT  ",null,"3100000138516",0]
[262,"SENER, PEMEX",null,"3100000138616",0]
[263,"IEEPO",null,"3100000138816",0]
[264,"INC",null,"3100000138916",0]
[265,"PROSOC",null,"3100000139116",0]
[264,"SRÍA. GOB.",null,"3100000139216",0]
[265,"DEL. AZCAPO",null,"3100000139316",0]
[266,"JG, IEDF, ALDF. TEDF, 16 DELS.",null,"3100000139416",0]
[267,"SAT",null,"3100000139516",0]
[null,"INVI",null,"3100000140616",1]
[null,"INVI",null,"3100000140716",1]
[null,"ALDF, PP's",null,"3100000140816",3]
[null,"SCJN",null,"3100000141016",0]
[null,"PGJDF",null,"3100000141116",0]
[null,"SCT",null,"3100000141316",0]
[null,"INE, IEDF",null,"3100000141416",0]
[null,"SEDATU",null,"3100000141716",0]
[null,"GAM, SEDEMA",null,"3100000141816",0]
[null,"Del. Xochimilco",null,"3100000141916",0]
[null,"VARIOS",null,"3100000142216",3]
[null,"SEDESA, Del. V.C.",null,"3100000142516",0]
[null,"INC",null,"3100000142716",1]
[null,"OM, SEDEMA, SF",null,"3100000143116",0]
[null,"SRIA. GOB.",null,"3100000143416",3]
[null,"SEMARNAT",null,"3100000143616",1]
[null,"JGDF",null,"3100000143716",0]
[null,"C5",null,"3100000143916",0]
[null,"JGDF",null,"3100000144916",0]
[null,"JGDF",null,"3100000145416",0]
[null,"IMSS",null,"3100000145516",0]
[null,"OM",null,"3100000145616",0]
[null,"SRIA. FINANZAS",null,"3100000145716",0]
[null,"JGDF",null,"3100000146016",0]
[null,"CJSL",null,"3100000146316",0]
[null,"IMSS",null,"3100000146416",0]
[null,"CJSL",null,"3100000146616",0]
[null,"SRÍA. ECONOMÍA",null,"3100000146716",0]
[null,"INVEA, SEMOVI",null,"3100000146816",0]
[null,"Contraloría General",null,"3100000146916",0]
[null,"SEDUVI, DEL. CUAUHTÉMOC",null,"3100000147116",0]
[null,"ISSSTE",null,"3100000147416",1]
[null,"Del. Coyoacán",null,"3100000147516",0]
[null,"ALDF",null,"3100000147616",0]
[null,"CJSL, ALDF",null,"3100000147716",0]
[null,"16 DELEGS, CONTRALORÍA GENERAL",null,"3100000147816",0]
[null,"Del. Cuauhtémoc",null,"3100000147916",0]
[null,"SSA, IMSS, ISSSTE",null,"3100000148016",0]
[null,"SEDESA",null,"3100000148116",0]
[]
[null,"PROMEDIO",null,null,{"$f":"AVERAGE(E7:E331)","v":0.39506172839506171}]

{"sheet":"5 DÍAS (2 o más UA)","index":6,"n_rows":20,"n_cols":14,"rows_kept":20,"cut":false,"hidden":true,"merged":[[8,16,8,17],[1,1,1,5],[6,1,6,13],[7,1,7,13],[8,1,9,1],[8,14,8,15]]}
[]
[]
[]
[]
[]
[]
[null,"ATENCIÓN A SOLICITUDES DE INFORMACIÓN, INFODF A MARZO 2014"]
[null,"ATENDIDAS POR \"DOS O MÁS UNIDADES ADMINISTRATIVAS\" (5 DÍAS HÁBILES)"]
[null,"Folio","Secretaría Técnica","Secretaría Ejecutiva","Contraloría","Dirección Jurídica y Desarrollo Normativo","Dirección de Capacitación y Cultura de la Transparencia","Dirección de Evaluación y Estudios","Dirección de Datos Personales","Dirección de Vinculación con la Sociedad","Dirección de Tecnologías de Información","Dirección de Administración y Finanzas","Dirección de Comunicación Social","Oficina de Información Pública"]
[null,null,"Días","Días","Días","Días","Días","Días","Días","Días","Días","Días","Días","Días"]
[]
[]
[]
[]
[]
[]
[]
[]
[]
[null,null,null,null,null,"                                                                                                                                                                                                                                                                                                                                                                                                                                                                                                                                                                                                                                                                                                                                                                                                                                                                                                                                                                                                                                                                                                                                                                                                                                                                                                                                                                                                                                                                                                                        "]

{"sheet":"RESUMEN POR UA","index":7,"n_rows":17,"n_cols":15,"rows_kept":17,"cut":false,"hidden":true,"merged":[[0,0,0,14],[1,11,1,12],[1,13,1,14],[1,0,2,0],[1,1,1,2],[1,5,1,6],[1,9,1,10],[1,3,1,4],[1,7,1,8]]}
["TIEMPO DE ATENCIÓN A SOLICITUDES DE INFORMACIÓN POR UNIDAD ADMINISTRATIVA, FOLIOS AL 15 DE JUNIO DE 2015"]
["Unidad Administrativa","SIP de 10 días atendidas por una UA",null,"SIP de 20 días atendidas por una UA",null,"SIP de 10 días atendidas por dos o más UA",null,"SIP de 20 días atendidas por dos o más UA",null,"Solicitudes Acceso Restringido",null,"SIP de 5 días atendidas por 1 UA",null,"SIP de 5 días atendidas por 2 o más UA"]
[null,"Folios","Promedio días atención","Folios","Promedio días atención","Folios","Promedio días atención","Folios","Promedio días atención","Folios","Promedio días atención","Folios","Promedio días atención","Folios","Promedio días atención"]
["Secretaría Técnica",{"$f":"COUNT('9 DÍAS (1 UA)'!C11:C59)","v":14},{"$f":"'9 DÍAS (1 UA)'!C61","v":6.4285714285714288},{"$f":"COUNT('18 DÍAS (1 UA)'!C9:C14)","v":0},null,{"$f":"COUNT('9 DÍAS (2 o más UA)'!C7:C77)","v":20},{"$f":"'9 DÍAS (2 o más UA)'!#REF!","v":{"$error":"#REF!"}},{"$f":"COUNTIF('18 DÍAS (2 o más UA)'!C7:C8, \">10\")","v":2},{"$f":"'18 DÍAS (2 o más UA)'!C12","v":14.5},{"$f":"CountCcolor('Solicitudes Acceso restringido'!$B$2,'Solicitudes Acceso restringido'!C9:C28)","v":0},null,{"$f":"COUNT(#REF!)","v":0},{"$f":"#REF!","v":{"$error":"#REF!"}},{"$f":"COUNT(#REF!)","v":0},{"$f":"#REF!","v":{"$error":"#REF!"}}]
["Secretaría Ejecutiva",{"$f":"COUNT('9 DÍAS (1 UA)'!E11:E59)","v":16},{"$f":"'9 DÍAS (1 UA)'!E61","v":7.5},{"$f":"COUNT('18 DÍAS (1 UA)'!E9:E14)","v":0},null,{"$f":"COUNT('9 DÍAS (2 o más UA)'!D7:D77)","v":19},{"$f":"'9 DÍAS (2 o más UA)'!#REF!","v":{"$error":"#REF!"}},{"$f":"COUNTIF('18 DÍAS (2 o más UA)'!D7:D8, \">10\")","v":0},{"$f":"'18 DÍAS (2 o más UA)'!D12","v":{"$error":"#DIV/0!"}},{"$f":"CountCcolor('Solicitudes Acceso restringido'!$B$2,'Solicitudes Acceso restringido'!D9:D28)","v":0},null,{"$f":"COUNT(#REF!)","v":0},{"$f":"#REF!","v":{"$error":"#REF!"}},{"$f":"COUNT(#REF!)","v":0},{"$f":"#REF!","v":{"$error":"#REF!"}}]
["Contraloría",{"$f":"COUNT('9 DÍAS (1 UA)'!G11:G59)","v":5},{"$f":"'9 DÍAS (1 UA)'!G61","v":3.6},{"$f":"COUNT('18 DÍAS (1 UA)'!G9:G14)","v":0},null,{"$f":"COUNT('9 DÍAS (2 o más UA)'!E7:E77)","v":18},{"$f":"'9 DÍAS (2 o más UA)'!#REF!","v":{"$error":"#REF!"}},{"$f":"COUNTIF('18 DÍAS (2 o más UA)'!E7:E8, \">10\")","v":0},null,{"$f":"CountCcolor('Solicitudes Acceso restringido'!$B$2,'Solicitudes Acceso restringido'!E9:E28)","v":2},{"$f":"'Solicitudes Acceso restringido'!E29","v":8.5},{"$f":"COUNT(#REF!)","v":0},{"$f":"#REF!","v":{"$error":"#REF!"}},{"$f":"COUNT(#REF!)","v":0},{"$f":"#REF!","v":{"$error":"#REF!"}}]
["DJDN",{"$f":"COUNT('9 DÍAS (1 UA)'!I11:I59)","v":32},{"$f":"'9 DÍAS (1 UA)'!I61","v":7.9375},{"$f":"COUNT('18 DÍAS (1 UA)'!I9:I14)","v":2},{"$f":"'18 DÍAS (1 UA)'!I15","v":14},{"$f":"COUNT('9 DÍAS (2 o más UA)'!F7:F77)","v":51},{"$f":"'9 DÍAS (2 o más UA)'!#REF!","v":{"$error":"#REF!"}},{"$f":"COUNTIF('18 DÍAS (2 o más UA)'!F7:F8, \">10\")","v":1},{"$f":"'18 DÍAS (2 o más UA)'!F12","v":18},{"$f":"CountCcolor('Solicitudes Acceso restringido'!$B$2,'Solicitudes Acceso restringido'!F9:F28)","v":6},{"$f":"'Solicitudes Acceso restringido'!F29","v":11.5},{"$f":"COUNT(#REF!)","v":0},{"$f":"#REF!","v":{"$error":"#REF!"}},{"$f":"COUNT(#REF!)","v":0},{"$f":"#REF!","v":{"$error":"#REF!"}}]
["DCCT",{"$f":"COUNT('9 DÍAS (1 UA)'!K11:K59)","v":5},{"$f":"'9 DÍAS (1 UA)'!K61","v":5.2},{"$f":"COUNT('18 DÍAS (1 UA)'!K9:K14)","v":0},null,{"$f":"COUNT('9 DÍAS (2 o más UA)'!G7:G77)","v":22},{"$f":"'9 DÍAS (2 o más UA)'!#REF!","v":{"$error":"#REF!"}},{"$f":"COUNTIF('18 DÍAS (2 o más UA)'!G7:G8, \">10\")","v":0},null,{"$f":"CountCcolor('Solicitudes Acceso restringido'!$B$2,'Solicitudes Acceso restringido'!G9:G28)","v":2},{"$f":"'Solicitudes Acceso restringido'!G29","v":8.5},{"$f":"COUNT(#REF!)","v":0},{"$f":"#REF!","v":{"$error":"#REF!"}},{"$f":"COUNT(#REF!)","v":0},{"$f":"#REF!","v":{"$error":"#REF!"}}]
["DEyE",{"$f":"COUNT('9 DÍAS (1 UA)'!M11:M59)","v":17},{"$f":"'9 DÍAS (1 UA)'!M61","v":4.117647058823529},{"$f":"COUNT('18 DÍAS (1 UA)'!M9:M14)","v":0},{"$f":"'18 DÍAS (1 UA)'!M15","v":{"$error":"#DIV/0!"}},{"$f":"COUNT('9 DÍAS (2 o más UA)'!H7:H77)","v":24},{"$f":"'9 DÍAS (2 o más UA)'!#REF!","v":{"$error":"#REF!"}},{"$f":"COUNTIF('18 DÍAS (2 o más UA)'!H7:H8, \">10\")","v":0},{"$f":"'18 DÍAS (2 o más UA)'!H12","v":{"$error":"#DIV/0!"}},{"$f":"CountCcolor('Solicitudes Acceso restringido'!$B$2,'Solicitudes Acceso restringido'!H9:H28)","v":0},null,{"$f":"COUNT(#REF!)","v":0},{"$f":"#REF!","v":{"$error":"#REF!"}},{"$f":"COUNT(#REF!)","v":0},{"$f":"#REF!","v":{"$error":"#REF!"}}]
["DDP",{"$f":"COUNT('9 DÍAS (1 UA)'!O11:O59)","v":15},{"$f":"'9 DÍAS (1 UA)'!O61","v":6.9333333333333336},{"$f":"COUNT('18 DÍAS (1 UA)'!O9:O14)","v":1},null,{"$f":"COUNT('9 DÍAS (2 o más UA)'!I7:I77)","v":32},{"$f":"'9 DÍAS (2 o más UA)'!#REF!","v":{"$error":"#REF!"}},{"$f":"COUNTIF('18 DÍAS (2 o más UA)'!I7:I8, \">10\")","v":0},null,{"$f":"CountCcolor('Solicitudes Acceso restringido'!$B$2,'Solicitudes Acceso restringido'!I9:I28)","v":0},null,{"$f":"COUNT(#REF!)","v":0},null,{"$f":"COUNT(#REF!)","v":0},{"$f":"#REF!","v":{"$error":"#REF!"}}]
["DVS",{"$f":"COUNT('9 DÍAS (1 UA)'!Q11:Q59)","v":1},{"$f":"'9 DÍAS (1 UA)'!Q61","v":3},{"$f":"COUNT('18 DÍAS (1 UA)'!Q9:Q14)","v":0},null,{"$f":"COUNT('9 DÍAS (2 o más UA)'!J7:J77)","v":18},{"$f":"'9 DÍAS (2 o más UA)'!#REF!","v":{"$error":"#REF!"}},{"$f":"COUNTIF('18 DÍAS (2 o más UA)'!J7:J8, \">10\")","v":0},null,{"$f":"CountCcolor('Solicitudes Acceso restringido'!$B$2,'Solicitudes Acceso restringido'!J9:J28)","v":1},{"$f":"'Solicitudes Acceso restringido'!J29","v":10},{"$f":"COUNT(#REF!)","v":0},{"$f":"#REF!","v":{"$error":"#REF!"}},{"$f":"COUNT(#REF!)","v":0},{"$f":"#REF!","v":{"$error":"#REF!"}}]
["DTI",{"$f":"COUNT('9 DÍAS (1 UA)'!S11:S59)","v":14},{"$f":"'9 DÍAS (1 UA)'!S61","v":4.2142857142857144},{"$f":"COUNT('18 DÍAS (1 UA)'!S9:S14)","v":0},{"$f":"'18 DÍAS (1 UA)'!S15","v":{"$error":"#DIV/0!"}},{"$f":"COUNT('9 DÍAS (2 o más UA)'!K7:K77)","v":27},{"$f":"'9 DÍAS (2 o más UA)'!#REF!","v":{"$error":"#REF!"}},{"$f":"COUNTIF('18 DÍAS (2 o más UA)'!K7:K8, \">10\")","v":0},{"$f":"'18 DÍAS (2 o más UA)'!K12","v":11},{"$f":"CountCcolor('Solicitudes Acceso restringido'!$B$2,'Solicitudes Acceso restringido'!K9:K28)","v":1},null,{"$f":"COUNT(#REF!)","v":0},null,{"$f":"COUNT(#REF!)","v":0}]
["DAF",{"$f":"COUNT('9 DÍAS (1 UA)'!U11:U59)","v":49},{"$f":"'9 DÍAS (1 UA)'!U61","v":6.4897959183673466},{"$f":"COUNT('18 DÍAS (1 UA)'!U9:U14)","v":5},null,{"$f":"COUNT('9 DÍAS (2 o más UA)'!L7:L77)","v":28},{"$f":"'9 DÍAS (2 o más UA)'!#REF!","v":{"$error":"#REF!"}},{"$f":"COUNTIF('18 DÍAS (2 o más UA)'!L7:L8, \">10\")","v":1},{"$f":"'18 DÍAS (2 o más UA)'!L12","v":13.5},{"$f":"CountCcolor('Solicitudes Acceso restringido'!$B$2,'Solicitudes Acceso restringido'!L9:L28)","v":7},{"$f":"'Solicitudes Acceso restringido'!L29","v":13.714285714285714},{"$f":"COUNT(#REF!)","v":0},{"$f":"#REF!","v":{"$error":"#REF!"}},{"$f":"COUNT(#REF!)","v":0},{"$f":"#REF!","v":{"$error":"#REF!"}}]
["DCS",{"$f":"COUNT('9 DÍAS (1 UA)'!W11:W59)","v":4},{"$f":"'9 DÍAS (1 UA)'!W61","v":1.75},{"$f":"COUNT('18 DÍAS (1 UA)'!W9:W14)","v":0},null,{"$f":"COUNT('9 DÍAS (2 o más UA)'!M7:M77)","v":16},null,{"$f":"COUNTIF('18 DÍAS (2 o más UA)'!M7:M8, \">10\")","v":0},null,{"$f":"CountCcolor('Solicitudes Acceso restringido'!$B$2,'Solicitudes Acceso restringido'!M9:M28)","v":0},null,{"$f":"COUNT(#REF!)","v":0},null,{"$f":"COUNT(#REF!)","v":0},{"$f":"#REF!","v":{"$error":"#REF!"}}]
["OIP",{"$f":"COUNT('9 DÍAS (1 UA)'!Y11:Y59)","v":25},{"$f":"'9 DÍAS (1 UA)'!Y61","v":4.6399999999999997},{"$f":"COUNT('18 DÍAS (1 UA)'!Y9:Y14)","v":0},null,{"$f":"COUNT('9 DÍAS (2 o más UA)'!N7:N77)","v":10},{"$f":"'9 DÍAS (2 o más UA)'!#REF!","v":{"$error":"#REF!"}},{"$f":"COUNTIF('18 DÍAS (2 o más UA)'!N7:N8, \">10\")","v":0},null,{"$f":"CountCcolor('Solicitudes Acceso restringido'!$B$2,'Solicitudes Acceso restringido'!N9:N28)","v":0},null,{"$f":"COUNT(#REF!)","v":0},{"$f":"#REF!","v":{"$error":"#REF!"}},{"$f":"COUNT(#REF!)","v":0},{"$f":"#REF!","v":{"$error":"#REF!"}}]
[]
[null,"FOLIOS PENDIENTES A LA FECHA DE REPORTE"]

{"sheet":"TABLAS","index":8,"n_rows":15,"n_cols":27,"rows_kept":15,"cut":false,"hidden":false,"merged":[[0,15,0,16],[0,11,0,12],[0,13,0,14],[0,1,0,2],[0,3,0,4],[0,5,0,6],[0,7,0,8],[0,9,0,10],[0,22,1,22],[0,26,1,26],[0,20,1,20],[0,25,1,25],[0,17,1,17],[0,18,1,18],[0,23,1,23],[0,24,1,24],[0,19,1,19],[0,21,1,21]]}
["Unidad Administrativa","SIP de 9 días atendidas por una UA",null,"SIP de 18 días atendidas por una UA",null,"SIP de 9 días atendidas por dos o más UA",null,"SIP de 18 días atendidas por dos o más UA",null,"Solicitudes Acceso Restringido",null,"SIP de 5 días atendidas por 1 UA",null,"SIP de 5 días atendidas por 2 o más UA",null,"SIP de 3 días atendidas por la UT",null,"No. solicitudes 9 días / UA","Promedio  Atención UA (9 DÍAS)","No. solicitudes 9 días (2 o más UA)","No. solicitudes 18 días / UA","No. solicitudes 18 días (2 o más UA)","Promedio Atención UA (18 días)","No. solicitudes Acceso Restringido","Promedio Atención Acceso Restringido","No. total solicitudes / UA","Promedio Atención UA (Total)"]
[null,"Folios","Promedio días atención","Folios","Promedio días atención","Folios","Promedio días atención","Folios","Promedio días atención","Folios","Promedio días atención","Folios","Promedio días atención","Folios","Promedio días atención","Folios","Promedio días de Atención"]
["Secretaría Técnica",{"$f":"COUNT('9 DÍAS (1 UA)'!C11:C59)","v":14},{"$f":"'9 DÍAS (1 UA)'!C61","v":6.4285714285714288},{"$f":"COUNT('18 DÍAS (1 UA)'!C9:C14)","v":0},{"$f":"'18 DÍAS (1 UA)'!C15","v":{"$error":"#DIV/0!"}},{"$f":"COUNT('9 DÍAS (2 o más UA)'!C7:C77)","v":20},{"$f":"'9 DÍAS (2 o más UA)'!C79","v":7.3},{"$f":"COUNTIF('18 DÍAS (2 o más UA)'!C7:C8, \">10\")","v":2},{"$f":"'18 DÍAS (2 o más UA)'!C12","v":14.5},{"$f":"CountCcolor('Solicitudes Acceso restringido'!$B$2,'Solicitudes Acceso restringido'!C9:C28)","v":0},{"$f":"'Solicitudes Acceso restringido'!C29","v":{"$error":"#DIV/0!"}},{"$f":"COUNT(#REF!)","v":0},{"$f":"#REF!","v":{"$error":"#REF!"}},{"$f":"COUNT(#REF!)","v":0},{"$f":"#REF!","v":{"$error":"#REF!"}},"-","N/A",{"$f":"SUM(B3+F3)","v":34},{"$f":"AVERAGE(C3,G3)","v":6.8642857142857139},"-",{"$f":"SUM(D3,H3)","v":2},"-",{"$f":"AVERAGE(I3)","v":14.5},{"$f":"J3","v":0},null,{"$f":"SUM(B3,D3,F3,H3,J3,L3,N3)","v":36},{"$f":"AVERAGE(C3,G3,I3)","v":9.4095238095238098}]
["Secretaría Ejecutiva",{"$f":"COUNT('9 DÍAS (1 UA)'!E11:E59)","v":16},{"$f":"'9 DÍAS (1 UA)'!E61","v":7.5},{"$f":"COUNT('18 DÍAS (1 UA)'!E9:E14)","v":0},{"$f":"'18 DÍAS (1 UA)'!E15","v":{"$error":"#DIV/0!"}},{"$f":"COUNT('9 DÍAS (2 o más UA)'!D7:D77)","v":19},{"$f":"'9 DÍAS (2 o más UA)'!D79","v":7.7368421052631575},{"$f":"COUNTIF('18 DÍAS (2 o más UA)'!D7:D8, \">10\")","v":0},{"$f":"'18 DÍAS (2 o más UA)'!D12","v":{"$error":"#DIV/0!"}},{"$f":"CountCcolor('Solicitudes Acceso restringido'!$B$2,'Solicitudes Acceso restringido'!D9:D28)","v":0},{"$f":"'Solicitudes Acceso restringido'!D29","v":{"$error":"#DIV/0!"}},{"$f":"COUNT(#REF!)","v":0},{"$f":"#REF!","v":{"$error":"#REF!"}},{"$f":"COUNT(#REF!)","v":0},{"$f":"#REF!","v":{"$error":"#REF!"}},"-","N/A",{"$f":"SUM(B4+F4)","v":35},{"$f":"AVERAGE(G4)","v":7.7368421052631575},"-",{"$f":"SUM(D4,H4)","v":0},"-","-",{"$f":"J4","v":0},null,{"$f":"SUM(B4,D4,F4,H4,J4,L4,N4)","v":35},{"$f":"AVERAGE(C4,G4)","v":7.6184210526315788}]
["Contraloría",{"$f":"COUNT('9 DÍAS (1 UA)'!G11:G59)","v":5},{"$f":"'9 DÍAS (1 UA)'!G61","v":3.6},{"$f":"COUNT('18 DÍAS (1 UA)'!G9:G14)","v":0},{"$f":"'18 DÍAS (1 UA)'!G15","v":{"$error":"#DIV/0!"}},{"$f":"COUNT('9 DÍAS (2 o más UA)'!E7:E77)","v":18},{"$f":"'9 DÍAS (2 o más UA)'!E79","v":5.4444444444444446},{"$f":"COUNTIF('18 DÍAS (2 o más UA)'!E7:E8, \">10\")","v":0},{"$f":"'18 DÍAS (2 o más UA)'!E12","v":{"$error":"#DIV/0!"}},{"$f":"CountCcolor('Solicitudes Acceso restringido'!$B$2,'Solicitudes Acceso restringido'!E9:E28)","v":2},{"$f":"'Solicitudes Acceso restringido'!E29","v":8.5},{"$f":"COUNT(#REF!)","v":0},{"$f":"#REF!","v":{"$error":"#REF!"}},{"$f":"COUNT(#REF!)","v":0},{"$f":"#REF!","v":{"$error":"#REF!"}},"-","N/A",{"$f":"SUM(B5+F5)","v":23},{"$f":"AVERAGE(C5,G5, K5)","v":5.8481481481481481},"-",{"$f":"SUM(D5,H5)","v":0},"-","-",2,null,25,{"$f":"AVERAGE(C5,G5,K5)","v":5.8481481481481481}]
["DJDN",{"$f":"COUNT('9 DÍAS (1 UA)'!I11:I59)","v":32},{"$f":"'9 DÍAS (1 UA)'!I61","v":7.9375},{"$f":"COUNT('18 DÍAS (1 UA)'!I9:I14)","v":2},{"$f":"'18 DÍAS (1 UA)'!I15","v":14},{"$f":"COUNT('9 DÍAS (2 o más UA)'!F7:F77)","v":51},{"$f":"'9 DÍAS (2 o más UA)'!F79","v":7.7058823529411766},{"$f":"COUNTIF('18 DÍAS (2 o más UA)'!F7:F8, \">10\")","v":1},{"$f":"'18 DÍAS (2 o más UA)'!F12","v":18},{"$f":"CountCcolor('Solicitudes Acceso restringido'!$B$2,'Solicitudes Acceso restringido'!F9:F28)","v":6},{"$f":"'Solicitudes Acceso restringido'!F29","v":11.5},{"$f":"COUNT(#REF!)","v":0},{"$f":"#REF!","v":{"$error":"#REF!"}},{"$f":"COUNT(#REF!)","v":0},{"$f":"#REF!","v":{"$error":"#REF!"}},"-","N/A",{"$f":"SUM(B6+F6)","v":83},{"$f":"AVERAGE(C6,G6,K6)","v":9.0477941176470598},"-",3,"-",{"$f":"AVERAGE(I6)","v":18},6,null,92,{"$f":"AVERAGE(C6,G6,I6,K6,)","v":9.0286764705882341}]
["DCCT",{"$f":"COUNT('9 DÍAS (1 UA)'!K11:K59)","v":5},{"$f":"'9 DÍAS (1 UA)'!K61","v":5.2},{"$f":"COUNT('18 DÍAS (1 UA)'!K9:K14)","v":0},{"$f":"'18 DÍAS (1 UA)'!K15","v":{"$error":"#DIV/0!"}},{"$f":"COUNT('9 DÍAS (2 o más UA)'!G7:G77)","v":22},{"$f":"'9 DÍAS (2 o más UA)'!G79","v":6.2272727272727275},{"$f":"COUNTIF('18 DÍAS (2 o más UA)'!G7:G8, \">10\")","v":0},{"$f":"'18 DÍAS (2 o más UA)'!G12","v":{"$error":"#DIV/0!"}},{"$f":"CountCcolor('Solicitudes Acceso restringido'!$B$2,'Solicitudes Acceso restringido'!G9:G28)","v":2},{"$f":"'Solicitudes Acceso restringido'!G29","v":8.5},{"$f":"COUNT(#REF!)","v":0},{"$f":"#REF!","v":{"$error":"#REF!"}},{"$f":"COUNT(#REF!)","v":0},{"$f":"#REF!","v":{"$error":"#REF!"}},"-","N/A",{"$f":"SUM(B7,F7)","v":27},{"$f":"AVERAGE(C7,G7)","v":5.7136363636363638},"-",0,"-","-",2,null,29,{"$f":"AVERAGE(C7,G7,K7)","v":6.6424242424242435}]
["DEyE",{"$f":"COUNT('9 DÍAS (1 UA)'!M11:M59)","v":17},{"$f":"'9 DÍAS (1 UA)'!M61","v":4.117647058823529},{"$f":"COUNT('18 DÍAS (1 UA)'!M9:M14)","v":0},{"$f":"'18 DÍAS (1 UA)'!M15","v":{"$error":"#DIV/0!"}},{"$f":"COUNT('9 DÍAS (2 o más UA)'!H7:H77)","v":24},{"$f":"'9 DÍAS (2 o más UA)'!H79","v":6.375},{"$f":"COUNTIF('18 DÍAS (2 o más UA)'!H7:H8, \">10\")","v":0},{"$f":"'18 DÍAS (2 o más UA)'!H12","v":{"$error":"#DIV/0!"}},{"$f":"CountCcolor('Solicitudes Acceso restringido'!$B$2,'Solicitudes Acceso restringido'!H9:H28)","v":0},{"$f":"'Solicitudes Acceso restringido'!H29","v":{"$error":"#DIV/0!"}},{"$f":"COUNT(#REF!)","v":0},{"$f":"#REF!","v":{"$error":"#REF!"}},{"$f":"COUNT(#REF!)","v":0},{"$f":"#REF!","v":{"$error":"#REF!"}},"-","N/A",{"$f":"SUM(B8+F8)","v":41},3.8,"-",0,"-","-",0,null,41,{"$f":"AVERAGE(C8,G8)","v":5.2463235294117645}]
["DDP",{"$f":"COUNT('9 DÍAS (1 UA)'!O11:O59)","v":15},{"$f":"'9 DÍAS (1 UA)'!O61","v":6.9333333333333336},{"$f":"COUNT('18 DÍAS (1 UA)'!O9:O14)","v":1},{"$f":"'18 DÍAS (1 UA)'!O15","v":10},{"$f":"COUNT('9 DÍAS (2 o más UA)'!I7:I77)","v":32},{"$f":"'9 DÍAS (2 o más UA)'!I79","v":7.65625},{"$f":"COUNTIF('18 DÍAS (2 o más UA)'!I7:I8, \">10\")","v":0},{"$f":"'18 DÍAS (2 o más UA)'!I12","v":{"$error":"#DIV/0!"}},{"$f":"CountCcolor('Solicitudes Acceso restringido'!$B$2,'Solicitudes Acceso restringido'!I9:I28)","v":0},{"$f":"'Solicitudes Acceso restringido'!I29","v":{"$error":"#DIV/0!"}},{"$f":"COUNT(#REF!)","v":0},{"$f":"#REF!","v":{"$error":"#REF!"}},{"$f":"COUNT(#REF!)","v":0},{"$f":"#REF!","v":{"$error":"#REF!"}},"-","N/A",47,{"$f":"AVERAGE(C9,G9)","v":7.2947916666666668},"-",1,"-",{"$f":"AVERAGE(E9)","v":10},0,null,48,{"$f":"AVERAGE(C9,E9,G9)","v":8.1965277777777779}]
["DVS",{"$f":"COUNT('9 DÍAS (1 UA)'!Q11:Q59)","v":1},{"$f":"'9 DÍAS (1 UA)'!Q61","v":3},{"$f":"COUNT('18 DÍAS (1 UA)'!Q9:Q14)","v":0},{"$f":"'18 DÍAS (1 UA)'!K15","v":{"$error":"#DIV/0!"}},{"$f":"COUNT('9 DÍAS (2 o más UA)'!J7:J77)","v":18},{"$f":"'9 DÍAS (2 o más UA)'!J79","v":7},{"$f":"COUNTIF('18 DÍAS (2 o más UA)'!J7:J8, \">10\")","v":0},{"$f":"'18 DÍAS (2 o más UA)'!J12","v":{"$error":"#DIV/0!"}},{"$f":"CountCcolor('Solicitudes Acceso restringido'!$B$2,'Solicitudes Acceso restringido'!J9:J28)","v":1},{"$f":"'Solicitudes Acceso restringido'!J29","v":10},{"$f":"COUNT(#REF!)","v":0},{"$f":"#REF!","v":{"$error":"#REF!"}},{"$f":"COUNT(#REF!)","v":0},{"$f":"#REF!","v":{"$error":"#REF!"}},"-","N/A",19,{"$f":"AVERAGE(C10,G10)","v":5},"-",0,"-","-",1,null,20,{"$f":"AVERAGE(C10,G10,K10)","v":6.666666666666667}]
["DTI",{"$f":"COUNT('9 DÍAS (1 UA)'!S11:S59)","v":14},{"$f":"'9 DÍAS (1 UA)'!S61","v":4.2142857142857144},{"$f":"COUNT('18 DÍAS (1 UA)'!S9:S14)","v":0},{"$f":"'18 DÍAS (1 UA)'!S15","v":{"$error":"#DIV/0!"}},{"$f":"COUNT('9 DÍAS (2 o más UA)'!K7:K77)","v":27},{"$f":"'9 DÍAS (2 o más UA)'!K79","v":5.7037037037037033},{"$f":"COUNTIF('18 DÍAS (2 o más UA)'!K7:K8, \">10\")","v":0},{"$f":"'18 DÍAS (2 o más UA)'!K12","v":11},{"$f":"CountCcolor('Solicitudes Acceso restringido'!$B$2,'Solicitudes Acceso restringido'!K9:K28)","v":1},{"$f":"'Solicitudes Acceso restringido'!K29","v":7},{"$f":"COUNT(#REF!)","v":0},{"$f":"#REF!","v":{"$error":"#REF!"}},{"$f":"COUNT(#REF!)","v":0},{"$f":"#REF!","v":{"$error":"#REF!"}},"-","N/A",41,{"$f":"AVERAGE(C11,G11,K11)","v":5.6393298059964723},"-",0,"-","-",1,null,42,{"$f":"AVERAGE(C11,G11,K11)","v":5.6393298059964723}]
["DAF",{"$f":"COUNT('9 DÍAS (1 UA)'!U11:U59)","v":49},{"$f":"'9 DÍAS (1 UA)'!U61","v":6.4897959183673466},{"$f":"COUNT('18 DÍAS (1 UA)'!U9:U14)","v":5},{"$f":"'18 DÍAS (1 UA)'!U15","v":17.600000000000001},{"$f":"COUNT('9 DÍAS (2 o más UA)'!L7:L77)","v":28},{"$f":"'9 DÍAS (2 o más UA)'!L79","v":6.9285714285714288},{"$f":"COUNTIF('18 DÍAS (2 o más UA)'!L7:L8, \">10\")","v":1},{"$f":"'18 DÍAS (2 o más UA)'!L12","v":13.5},{"$f":"CountCcolor('Solicitudes Acceso restringido'!$B$2,'Solicitudes Acceso restringido'!L9:L28)","v":7},{"$f":"'Solicitudes Acceso restringido'!L29","v":13.714285714285714},{"$f":"COUNT(#REF!)","v":0},{"$f":"#REF!","v":{"$error":"#REF!"}},{"$f":"COUNT(#REF!)","v":0},{"$f":"#REF!","v":{"$error":"#REF!"}},"-","N/A",77,{"$f":"AVERAGE(C12,G12,K12)","v":9.0442176870748288},"-",6,"-",{"$f":"AVERAGE(E12,I12)","v":15.55},7,null,90,{"$f":"AVERAGE(C12,E12,G12,I12,K12)","v":11.646530612244899}]
["DCS",{"$f":"COUNT('9 DÍAS (1 UA)'!W11:W59)","v":4},{"$f":"'9 DÍAS (1 UA)'!W61","v":1.75},{"$f":"COUNT('18 DÍAS (1 UA)'!W9:W14)","v":0},{"$f":"'18 DÍAS (1 UA)'!W15","v":{"$error":"#DIV/0!"}},{"$f":"COUNT('9 DÍAS (2 o más UA)'!M7:M77)","v":16},{"$f":"'9 DÍAS (2 o más UA)'!M79","v":6.6875},{"$f":"COUNTIF('18 DÍAS (2 o más UA)'!M7:M8, \">10\")","v":0},{"$f":"'18 DÍAS (2 o más UA)'!M12","v":{"$error":"#DIV/0!"}},{"$f":"CountCcolor('Solicitudes Acceso restringido'!$B$2,'Solicitudes Acceso restringido'!M9:M28)","v":0},{"$f":"'Solicitudes Acceso restringido'!M29","v":{"$error":"#DIV/0!"}},{"$f":"COUNT(#REF!)","v":0},{"$f":"#REF!","v":{"$error":"#REF!"}},{"$f":"COUNT(#REF!)","v":0},{"$f":"#REF!","v":{"$error":"#REF!"}},"-","N/A",20,{"$f":"AVERAGE(C13,G13)","v":4.21875},"-",0,"-","-",0,null,20,{"$f":"AVERAGE(C13,G13)","v":4.21875}]
["UT",{"$f":"COUNT('9 DÍAS (1 UA)'!Y11:Y59)","v":25},{"$f":"'9 DÍAS (1 UA)'!Y61","v":4.6399999999999997},{"$f":"COUNT('18 DÍAS (1 UA)'!Y9:Y14)","v":0},{"$f":"'18 DÍAS (1 UA)'!Y15","v":{"$error":"#DIV/0!"}},{"$f":"COUNT('9 DÍAS (2 o más UA)'!N7:N77)","v":10},{"$f":"'9 DÍAS (2 o más UA)'!N79","v":1.6},{"$f":"COUNTIF('18 DÍAS (2 o más UA)'!N7:N8, \">10\")","v":0},{"$f":"'18 DÍAS (2 o más UA)'!N12","v":{"$error":"#DIV/0!"}},{"$f":"CountCcolor('Solicitudes Acceso restringido'!$B$2,'Solicitudes Acceso restringido'!N9:N28)","v":0},{"$f":"'Solicitudes Acceso restringido'!N29","v":{"$error":"#DIV/0!"}},{"$f":"COUNT(#REF!)","v":0},{"$f":"#REF!","v":{"$error":"#REF!"}},{"$f":"COUNT(#REF!)","v":0},{"$f":"#REF!","v":{"$error":"#REF!"}},{"$f":"COUNT('3 DÍAS (UT)'!E7:E330)","v":324},{"$f":"'3 DÍAS (UT)'!E332","v":0.39506172839506171},35,{"$f":"AVERAGE(C14,G14)","v":3.12},"-",0,"-","-",0,null,{"$f":"SUM(B14,D14,F14,H14,J14,L14,N14,P14)","v":359},{"$f":"AVERAGE(C14,G14,Q14)","v":2.2116872427983538}]
["SUMA/PROMEDIO",{"$f":"SUM(B3:B14)","v":197},{"$f":"AVERAGE(C3:C14)","v":5.1509277877817796},{"$f":"SUM(D3:D14)","v":8},{"$f":"AVERAGE(E9,E12)","v":13.8},{"$f":"SUM(F3:F14)","v":285},{"$f":"AVERAGE(G3:G14)","v":6.3637888968497194},{"$f":"SUM(H3:H14)","v":4},{"$f":"AVERAGE(I3,I6,I12)","v":15.333333333333334},{"$f":"SUM(J3:J14)","v":19},{"$f":"AVERAGE(K6,K7,K10,K11,K12)","v":10.142857142857142},{"$f":"SUM(L3:L14)","v":0},{"$f":"AVERAGE(M6,M12)","v":{"$error":"#REF!"}},{"$f":"SUM(N3:N14)","v":0},{"$f":"AVERAGE(O3:O14)","v":{"$error":"#REF!"}},{"$f":"SUM(P14)","v":324},{"$f":"(Q14)","v":0.39506172839506171},{"$f":"SUM(R3:R14)","v":482},{"$f":"AVERAGE(S3:S14)","v":6.1106496340598682},{"$f":"'9 DÍAS (2 o más UA)'!C80","v":62},{"$f":"SUM(U3:U14)","v":12},{"$f":"'18 DÍAS (2 o más UA)'!C13","v":3},{"$f":"AVERAGE(W3:W14)","v":14.512499999999999},{"$f":"SUM(X3:X14)","v":19},null,{"$f":"SUM(Z3:Z14)","v":837},{"$f":"AVERAGE(AA3:AA14)","v":6.8644174465176624}]