{"text_format":"1","workbook":"xlsx","n_sheets":11,"sheets":["9 DÍAS (1 UA)","18 DÍAS (1 UA)","9 DÍAS (2 o más UA)","18 DÍAS (2 o más UA)","Solicitudes Acceso restringido","3 DÍAS (UT)","5 DÍAS (2 o más UA)","5 DÍAS (1 UA)","5 DIAS (2 o más UA)","RESUMEN POR UA","TABLAS"],"not_rendered":{"charts":4,"images":3,"macros":1,"external_links":0,"defined_names":24,"comments":2,"pivot_tables":0},"unopened":[],"bounds":{"document_bytes":16777216,"sheet_cells":100000,"rows_first":2000,"rows_last":500,"rows_between":2000,"halvings":0,"cell_chars":16384,"cell_head_chars":4096},"cells_cut":0,"cells_raw":0,"read":"whole","date_system":"1900"}

{"sheet":"9 DÍAS (1 UA)","index":0,"n_rows":38,"n_cols":25,"rows_kept":38,"cut":false,"hidden":false,"merged":[[8,1,8,2],[8,3,8,4],[8,5,8,6],[6,1,6,24],[7,1,7,24],[8,7,8,8],[8,9,8,10],[8,11,8,12],[8,13,8,14],[8,15,8,16],[8,17,8,18],[8,19,8,20],[1,3,1,8],[8,21,8,22],[8,23,8,24],[8,25,8,26],[8,27,8,28]]}
[null,null,"FOLIOS PENDIENTES A LA FECHA DE REPORTE"]
[]
[]
[]
[null,null,"FOLIOS PENDIENTES A LA FECHA DE REPORTE"]
[]
[null,"TIEMPO DE ATENCIÓN A SOLICITUDES DE INFORMACIÓN, FOLIOS DEL 05 DE MAYO AL 20 DE JUNIO DE 2016"]
[null,"ATENDIDAS POR \"UNA UNIDAD ADMINISTRATIVA\" (10 DÍAS HÁBILES)"]
[null,"Secretaría Técnica",null,"Secretaría Ejecutiva",null,"Contraloría",null,"Dirección Jurídica y Desarrollo Normativo",null,"Dirección de Capacitación y Cultura de la Transparencia",null,"Dirección de Evaluación y Estudios",null,"Dirección de Datos Personales",null,"Dirección de Vinculación con la Sociedad",null,"Dirección de Tecnologías de Información",null,"Dirección de Administración y Finanzas",null,"Dirección de Comunicación Social",null,"Oficina de Información Pública"]
[null,"Folio","Días","Folio","Días","Folio","Días","Folio","Días","Folio","Días","Folio","Días","Folio","Días","Folio","Días","Folio","Días","Folio","Días","Folio","Días","Folio","Días"]
[1,"3100000075916",9,"3100000109416",null,"3100000107916",5,"3100000079716",8,"3100000095316",3,"3100000075516",6,"3100000077416",7,"3100000075816",3,"3100000076216",3,"3100000079216",6,"3100000078716",2,"3100000111516"]
[{"$f":"SUM(A11+1)","v":2},"3100000076016",9,"3100000110516",null,null,null,"3100000090916",9,"3100000110616",null,"3100000079516",5,"3100000078516",7,null,null,"3100000077516",3,"3100000079616",6,null,null,"3100000111616"]
[{"$f":"SUM(A12+1)","v":3},"3100000084116",5,"3100000115216",null,null,null,"3100000098516",9,null,null,"3100000089816",2,"3100000078616",7,null,null,"3100000094016",3,"3100000081016",5,null,null,"3100000111716"]
[4,"3100000084216",5,"3100000115316",null,null,null,"3100000103016",9,null,null,"3100000091216",2,"3100000080216",6,null,null,"3100000094116",3,"3100000084616",4,null,null,"3100000111816"]
[5,"3100000084316",5,"3100000115616",null,null,null,"3100000103116",7,null,null,"3100000105916",2,"3100000080316",6,null,null,"3100000094216",3,"3100000091016",4,null,null,"3100000111916"]
[6,"3100000084416",5,"3100000115816",null,null,null,"3100000103216",7,null,null,"3100000110016",null,"3100000080416",6,null,null,"3100000094316",3,"3100000091716",9,null,null,"3100000112016"]
[7,"3100000084516",5,null,null,null,null,"3100000104116",6,null,null,"3100000112816",null,"3100000080516",6,null,null,"3100000095916",3,"3100000091816",9,null,null,"3100000112116"]
[8,"3100000085816",4,null,null,null,null,"3100000104716",5,null,null,"3100000113316",null,"3100000080616",6,null,null,"3100000102416",4,"3100000092516",3,null,null,"3100000112216"]
[9,"3100000085916",4,null,null,null,null,"3100000105616",8,null,null,"3100000113416",null,"3100000080716",6,null,null,"3100000110116",null,"3100000097216",7,null,null,"3100000112316"]
[10,"3100000087916",7,null,null,null,null,"3100000106916",7,null,null,null,null,"3100000106016",8,null,null,"3100000111116",null,"3100000097316",7,null,null,"3100000112416"]
[11,"3100000102316",6,null,null,null,null,"3100000108016",null,null,null,null,null,null,null,null,null,"3100000113816",null,"3100000098316",9,null,null,"3100000112516"]
[12,"3100000108116",null,null,null,null,null,"3100000108216",null,null,null,null,null,null,null,null,null,"3100000113916",null,"3100000098416",9,null,null,"3100000112616"]
[13,"3100000109316",null,null,null,null,null,"3100000108316",null,null,null,null,null,null,null,null,null,null,null,"3100000103616",5,null,null,"3100000112716"]
[14,"3100000109816",null,null,null,null,null,"3100000116216",null,null,null,null,null,null,null,null,null,null,null,"3100000105316",1,null,null,"3100000113716"]
[15,null,null,null,null,null,null,null,null,null,null,null,null,null,null,null,null,null,null,"3100000106416"]
[16,null,null,null,null,null,null,null,null,null,null,null,null,null,null,null,null,null,null,"3100000106516"]
[17,null,null,null,null,null,null,null,null,null,null,null,null,null,null,null,null,null,null,"3100000106616"]
[18,null,null,null,null,null,null,null,null,null,null,null,null,null,null,null,null,null,null,"3100000106716"]
[19,null,null,null,null,null,null,null,null,null,null,null,null,null,null,null,null,null,null,"3100000106816"]
[20,null,null,null,null,null,null,null,null,null,null,null,null,null,null,null,null,null,null,"3100000109616"]
[21,null,null,null,null,null,null,null,null,null,null,null,null,null,null,null,null,null,null,"3100000114416"]
[22,null,null,null,null,null,null,null,null,null,null,null,null,null,null,null,null,null,null,"3100000115416"]
[23]
[24]
[25]
[26]
[]
[null,"PROMEDIO",{"$f":"AVERAGE(C11:C37)","v":5.8181818181818183},"PROMEDIO",{"$f":"AVERAGE(E11:E37)","v":{"$error":"#DIV/0!"}},"PROMEDIO",{"$f":"AVERAGE(G11:G37)","v":5},"PROMEDIO",{"$f":"AVERAGE(I11:I37)","v":7.5},"PROMEDIO",{"$f":"AVERAGE(K11:K37)","v":3},"PROMEDIO",{"$f":"AVERAGE(M11:M37)","v":3.4},"PROMEDIO",{"$f":"AVERAGE(O11:O37)","v":6.5},"PROMEDIO",{"$f":"AVERAGE(Q11:Q37)","v":3},"PROMEDIO",{"$f":"AVERAGE(S11:S37)","v":3.125},"PROMEDIO",{"$f":"AVERAGE(U11:U37)","v":6},"PROMEDIO",{"$f":"AVERAGE(W11:W37)","v":2},"PROMEDIO",{"$f":"AVERAGE(Y11:Y37)","v":{"$error":"#DIV/0!"}}]

{"sheet":"18 DÍAS (1 UA)","index":1,"n_rows":21,"n_cols":25,"rows_kept":21,"cut":false,"hidden":false,"merged":[[0,3,0,8],[4,1,4,24],[5,1,5,24],[6,1,6,2],[6,3,6,4],[6,5,6,6],[6,7,6,8],[6,9,6,10],[6,11,6,12],[6,13,6,14],[6,27,6,28],[6,15,6,16],[6,17,6,18],[6,19,6,20],[6,21,6,22],[6,23,6,24],[6,25,6,26]]}
[]
[]
[null,null,"FOLIOS PENDIENTES A LA FECHA DE REPORTE"]
[]
[null,"TIEMPO DE ATENCIÓN A SOLICITUDES DE INFORMACIÓN, FOLIOS DEL 05 DE MAYO AL 20 DE JUNIO DE 2016"]
[null,"ATENDIDAS POR \"UNA UNIDAD ADMINISTRATIVA\" (20 DÍAS HÁBILES)"]
[null,"Secretaría Técnica",null,"Secretaría Ejecutiva",null,"Contraloría",null,"Dirección Jurídica y Desarrollo Normativo",null,"Dirección de Capacitación y Cultura de la Transparencia",null,"Dirección de Evaluación y Estudios",null,"Dirección de Datos Personales",null,"Dirección de Vinculación con la Sociedad",null,"Dirección de Tecnologías de Información",null,"Dirección de Administración y Finanzas",null,"Dirección de Comunicación Social",null,"Oficina de Información Pública"]
[null,"Folio","Días","Folio","Días","Folio","Días","Folio","Días","Folio","Días","Folio","Días","Folio","Días","Folio","Días","Folio","Días","Folio","Días","Folio","Días","Folio","Días"]
[1,null,null,null,null,null,null,null,null,null,null,null,null,null,null,null,null,null,null,"3100000105416"]
[2]
[3]
[4]
[5]
[6]
[7]
[8]
[9]
[10]
[11]
[12]
[null,"PROMEDIO",{"$f":"AVERAGE(C9:C20)","v":{"$error":"#DIV/0!"}},"PROMEDIO",{"$f":"AVERAGE(E9:E20)","v":{"$error":"#DIV/0!"}},"PROMEDIO",{"$f":"AVERAGE(G9:G20)","v":{"$error":"#DIV/0!"}},"PROMEDIO",{"$f":"AVERAGE(I9:I20)","v":{"$error":"#DIV/0!"}},"PROMEDIO",{"$f":"AVERAGE(K9:K20)","v":{"$error":"#DIV/0!"}},"PROMEDIO",{"$f":"AVERAGE(M9:M20)","v":{"$error":"#DIV/0!"}},"PROMEDIO",{"$f":"AVERAGE(O9:O20)","v":{"$error":"#DIV/0!"}},"PROMEDIO",{"$f":"AVERAGE(Q9:Q20)","v":{"$error":"#DIV/0!"}},"PROMEDIO",{"$f":"AVERAGE(S9:S20)","v":{"$error":"#DIV/0!"}},"PROMEDIO",{"$f":"AVERAGE(U9:U20)","v":{"$error":"#DIV/0!"}},"PROMEDIO",{"$f":"AVERAGE(W9:W20)","v":{"$error":"#DIV/0!"}},"PROMEDIO",{"$f":"AVERAGE(Y9:Y20)","v":{"$error":"#DIV/0!"}}]

{"sheet":"9 DÍAS (2 o más UA)","index":2,"n_rows":54,"n_cols":14,"rows_kept":54,"cut":false,"hidden":false,"merged":[[4,16,4,17],[4,1,5,1],[4,14,4,15],[2,1,2,13],[3,1,3,13]]}
[null,null,"FOLIOS PENDIENTES A LA FECHA DE REPORTE"]
[]
[null,"                               TIEMPO DE ATENCIÓN A SOLICITUDES DE INFORMACIÓN, FOLIOS DEL 05 DE MAYO AL 20 DE JUNIO DE 2016"]
[null,"ATENDIDAS POR \"DOS O MÁS UNIDADES ADMINISTRATIVAS\" (10 DÍAS HÁBILES)"]
[null,"Folio","Secretaría Técnica","Secretaría Ejecutiva","Contraloría","Dirección Jurídica y Desarrollo Normativo","Dirección de Capacitación y Cultura de la Transparencia","Dirección de Evaluación y Estudios","Dirección de Datos Personales","Dirección de Vinculación con la Sociedad","Dirección de Tecnologías de Información","Dirección de Administración y Finanzas","Dirección de Comunicación Social","Oficina de Información Pública"]
[null,null,"Días","Días","Días","Días","Días","Días","Días","Días","Días","Días","Días","Días"]
[1,"3100000077616",null,null,null,7,null,null,7]
[2,"3100000077716",null,null,null,7,null,null,7]
[3,"3100000077816",null,null,null,7,null,null,7]
[4,"3100000077916",null,null,null,7,null,null,7]
[5,"3100000078016",null,null,null,7,null,null,7]
[6,"3100000078216",null,null,null,7,null,null,7]
[7,"3100000078316",null,null,null,7,null,null,7]
[8,"3100000078416",null,null,null,7,null,null,7]
[9,"3100000079316",null,null,null,6,null,null,6]
[10,"3100000079416",null,null,null,6,null,null,6]
[11,"3100000081116",null,null,null,7,null,null,null,null,4,null,2]
[12,"3100000081216",null,null,null,7,null,null,null,null,4,null,2]
[13,"3100000083616",null,null,null,null,5,null,null,4]
[14,"3100000102016",null,null,null,9,null,null,null,null,null,9]
[15,"3100000102816",null,null,null,8,null,null,null,null,null,null,null,1]
[16,"3100000102916",null,9,3,9,2,2,7,4,3,8,2]
[17,"3100000103816",1,null,null,7]
[18,"3100000104016",null,null,null,9,null,null,7]
[19,"3100000104916",null,null,null,null,null,null,null,null,null,9,null,3]
[20,"3100000106116",null,null,null,null,null,4,null,null,3,null,null,2]
[21,"3100000107716"]
[22,"3100000108616"]
[23,"3100000108916"]
[24,"3100000109216"]
[25,"3100000109716"]
[26,"3100000109916"]
[27,"3100000110216"]
[28,"3100000110316"]
[29,"3100000110416"]
[30,"3100000110716"]
[31,"3100000110816"]
[32,"3100000110916"]
[33,"3100000111016"]
[34,"3100000111216"]
[35,"3100000111316"]
[36,"3100000111416"]
[37,"3100000113616"]
[38,"3100000114016",null,null,null,null,null,null,null,null,null,null,null,0]
[39,"3100000114116",null,null,null,null,null,null,null,null,null,null,null,0]
[40,"3100000114316"]
[41,"3100000114516"]
[42,"3100000115516"]
[43,"3100000115716"]
[44]
[45]
[46]
[]
[null,"PROMEDIO",{"$f":"AVERAGE(C7:C53)","v":1},9,3,7.2941176470588234,3.5,3,6.833333333333333,4,3.5,8.6666666666666661,2,1.2]

{"sheet":"18 DÍAS (2 o más UA)","index":3,"n_rows":34,"n_cols":14,"rows_kept":34,"cut":false,"hidden":false,"merged":[[4,16,4,17],[0,6,0,8],[2,1,2,13],[3,1,3,13],[4,1,5,1],[4,14,4,15]]}
[null,null,"FOLIOS PENDIENTES A LA FECHA DE REPORTE",null,null,null,"No ampliaron plazo, no se cuenta para el promedio"]
[]
[null,"TIEMPO DE ATENCIÓN A SOLICITUDES DE INFORMACIÓN, FOLIOS DEL 05 DE MAYO AL 20 DE JUNIO DE 2016"]
[null,"ATENDIDAS POR \"DOS O MÁS UNIDADES ADMINISTRATIVAS\" (20 DÍAS HÁBILES)"]
[null,"Folio","Secretaría Técnica","Secretaría Ejecutiva","Contraloría","Dirección Jurídica y Desarrollo Normativo","Dirección de Capacitación y Cultura de la Transparencia","Dirección de Evaluación y Estudios","Dirección de Datos Personales","Dirección de Vinculación con la Sociedad","Dirección de Tecnologías de Información","Dirección de Administración y Finanzas","Dirección de Comunicación Social","Oficina de Información Pública"]
[null,null,"Días","Días","Días","Días","Días","Días","Días","Días","Días","Días","Días","Días"]
[1,"3100000103916"]
[2]
[3]
[4]
[5]
[6]
[7]
[8]
[9]
[10]
[12]
[13]
[14]
[15]
[16]
[17]
[18]
[19]
[20]
[21]
[22]
[23]
[24]
[25]
[26]
[27]
[28]
[null,"PROMEDIO",{"$f":"AVERAGEIF(C7:C33,\">10\")","v":{"$error":"#DIV/0!"}},{"$error":"#DIV/0!"},{"$error":"#DIV/0!"},{"$error":"#DIV/0!"},{"$error":"#DIV/0!"},{"$error":"#DIV/0!"},{"$error":"#DIV/0!"},{"$error":"#DIV/0!"},{"$error":"#DIV/0!"},{"$error":"#DIV/0!"},{"$error":"#DIV/0!"},{"$error":"#DIV/0!"}]

{"sheet":"Solicitudes Acceso restringido","index":4,"n_rows":23,"n_cols":17,"rows_kept":23,"cut":false,"hidden":false,"merged":[[5,1,5,16],[4,1,4,16],[6,1,7,1]]}
[null,null,"FOLIOS PENDIENTES A LA FECHA DE REPORTE"]
[null,null,"UNIDAD ADMINISTRATIVA QUE CLASIFICÓ INFORMACIÓN"]
[null,null,"UNIDAD ADMINISTRATIVA QUE NO CLASIFICÓ INFORMACIÓN. NO SE TOMA EN CUENTA PARA EL PROMEDIO"]
[]
[null,"TIEMPO DE ATENCIÓN A SOLICITUDES DE INFORMACIÓN, FOLIOS DEL 05 DE MAYO AL 20 DE JUNIO DE 2016"]
[null,"ACCESO RESTRINGIDO CONTENIDA EN LA RESPUESTA DE UNA O MÁS UNIDADES ADMINISTRATIVAS."]
[null,"Folio","Secretaría Técnica","Secretaría Ejecutiva","Contraloría","Dirección Jurídica y Desarrollo Normativo","Dirección de Capacitación y Cultura de la Transparencia","Dirección de Evaluación y Estudios","Dirección de Datos Personales","Dirección de Vinculación con la Sociedad","Dirección de Tecnologías de Información","Dirección de Administración y Finanzas","Dirección de Comunicación Social","Oficina de Información Pública","OBSERVACIONES","MODALIDAD","NO. ACUERDO / SUPUESTO LEGAL"]
[null,null,"Días","Días","Días","Días","Días","Días","Días","Días","Días","Días","Días","Días"]
[1,"3100000091116",null,null,null,9,null,null,null,null,null,null,null,null,"SE REUNIÓ CT","Confidencial","001/SE/CT-01-06/2016"]
[2,"3100000091816",null,null,null,null,null,null,8,null,null,18,null,null,"SE REUNIÓ CT","Confidencial","004/SO/CT-14-06/2016"]
[3,"3100000097516",null,null,null,null,null,null,null,null,7,null,null,null,"SE REUNIÓ CT","Confidencial","003/SO/CT-02-06/2016"]
[4,"310000097616",null,null,null,null,null,null,null,null,null,8,null,null,"SE REUNIÓ CT","Confidencial","002/SO/CT-02-06/2016:"]
[5,"310000097716",null,null,null,null,null,null,null,null,null,8,null,null,"SE REUNIÓ CT","Confidencial","002/SO/CT-02-06/2016:"]
[6,"310000097816",null,null,null,null,null,null,null,null,null,8,null,null,"SE REUNIÓ CT","Confidencial","002/SO/CT-02-06/2016:"]
[7,"3100000102516",null,null,null,null,2,null,null,null,null,null,null,null,"SE REUNIÓ CT"]
[8,"3100000104616",null,null,null,null,null,null,null,null,null,null,null,null,"SE REUNIÓ CT"]
[9]
[10]
[null,"PROMEDIO",{"$f":"SumbyColor($B$2,C9:C18)/CountCcolor($B$2,C9:C18)","v":{"$error":"#DIV/0!"}},{"$f":"SumbyColor($B$2,D9:D18)/CountCcolor($B$2,D9:D18)","v":{"$error":"#DIV/0!"}},{"$f":"SumbyColor($B$2,E9:E18)/CountCcolor($B$2,E9:E18)","v":{"$error":"#DIV/0!"}},{"$f":"SumbyColor($B$2,F9:F18)/CountCcolor($B$2,F9:F18)","v":9},{"$f":"SumbyColor($B$2,G9:G18)/CountCcolor($B$2,G9:G18)","v":{"$error":"#DIV/0!"}},{"$f":"SumbyColor($B$2,H9:H18)/CountCcolor($B$2,H9:H18)","v":{"$error":"#DIV/0!"}},{"$f":"SumbyColor($B$2,I9:I18)/CountCcolor($B$2,I9:I18)","v":{"$error":"#DIV/0!"}},{"$f":"SumbyColor($B$2,J9:J18)/CountCcolor($B$2,J9:J18)","v":{"$error":"#DIV/0!"}},{"$f":"SumbyColor($B$2,K9:K18)/CountCcolor($B$2,K9:K18)","v":7},{"$f":"SumbyColor($B$2,L9:L18)/CountCcolor($B$2,L9:L18)","v":10.5},{"$f":"SumbyColor($B$2,M9:M18)/CountCcolor($B$2,M9:M18)","v":{"$error":"#DIV/0!"}},{"$f":"SumbyColor($B$2,N9:N18)/CountCcolor($B$2,N9:N18)","v":{"$error":"#DIV/0!"}}]
[]
[]
[null,null,null,null,null,null,null,null,null,null,null,null,null,null,null,null,"CRITERIO PLENO"]
[null,null,null,null,null,null,null,null,null,null,null,null,null,null,null,null,"SE REUNIÓ CT"]

{"sheet":"3 DÍAS (UT)","index":5,"n_rows":211,"n_cols":5,"rows_kept":211,"cut":false,"hidden":false,"merged":[[202,1,202,2],[203,1,203,2],[204,1,204,2],[205,1,205,2],[206,1,206,2],[207,1,207,2],[188,1,188,2],[189,1,189,2],[190,1,190,2],[191,1,191,2],[184,1,184,2],[185,1,185,2],[210,1,210,3],[175,1,175,2],[176,1,176,2],[177,1,177,2],[178,1,178,2],[179,1,179,2],[180,1,180,2],[181,1,181,2],[182,1,182,2],[183,1,183,2],[186,1,186,2],[187,1,187,2],[192,1,192,2],[193,1,193,2],[194,1,194,2],[195,1,195,2],[196,1,196,2],[197,1,197,2],[198,1,198,2],[199,1,199,2],[200,1,200,2],[201,1,201,2],[153,1,153,2],[173,1,173,2],[174,1,174,2],[209,1,209,2],[154,1,154,2],[162,1,162,2],[163,1,163,2],[164,1,164,2],[165,1,165,2],[166,1,166,2],[167,1,167,2],[168,1,168,2],[169,1,169,2],[170,1,170,2],[171,1,171,2],[172,1,172,2],[155,1,155,2],[156,1,156,2],[157,1,157,2],[158,1,158,2],[159,1,159,2],[160,1,160,2],[161,1,161,2],[208,1,208,2],[148,1,148,2],[149,1,149,2],[150,1,150,2],[151,1,151,2],[152,1,152,2],[135,1,135,2],[136,1,136,2],[137,1,137,2],[138,1,138,2],[139,1,139,2],[140,1,140,2],[141,1,141,2],[142,1,142,2],[143,1,143,2],[144,1,144,2],[145,1,145,2],[146,1,146,2],[147,1,147,2],[126,1,126,2],[127,1,127,2],[128,1,128,2],[129,1,129,2],[130,1,130,2],[131,1,131,2],[132,1,132,2],[133,1,133,2],[134,1,134,2],[97,1,97,2],[98,1,98,2],[99,1,99,2],[100,1,100,2],[113,1,113,2],[114,1,114,2],[115,1,115,2],[105,1,105,2],[106,1,106,2],[107,1,107,2],[108,1,108,2],[109,1,109,2],[110,1,110,2],[111,1,111,2],[112,1,112,2],[101,1,101,2],[102,1,102,2],[103,1,103,2],[104,1,104,2],[125,1,125,2],[89,1,89,2],[90,1,90,2],[91,1,91,2],[92,1,92,2],[93,1,93,2],[94,1,94,2],[83,1,83,2],[84,1,84,2],[85,1,85,2],[86,1,86,2],[87,1,87,2],[88,1,88,2],[116,1,116,2],[117,1,117,2],[118,1,118,2],[119,1,119,2],[120,1,120,2],[121,1,121,2],[122,1,122,2],[123,1,123,2],[124,1,124,2],[95,1,95,2],[96,1,96,2],[77,1,77,2],[78,1,78,2],[79,1,79,2],[80,1,80,2],[81,1,81,2],[82,1,82,2],[71,1,71,2],[72,1,72,2],[73,1,73,2],[74,1,74,2],[75,1,75,2],[76,1,76,2],[65,1,65,2],[66,1,66,2],[67,1,67,2],[68,1,68,2],[69,1,69,2],[70,1,70,2],[59,1,59,2],[60,1,60,2],[61,1,61,2],[62,1,62,2],[63,1,63,2],[64,1,64,2],[53,1,53,2],[54,1,54,2],[55,1,55,2],[56,1,56,2],[57,1,57,2],[58,1,58,2],[47,1,47,2],[48,1,48,2],[49,1,49,2],[50,1,50,2],[51,1,51,2],[52,1,52,2],[41,1,41,2],[42,1,42,2],[43,1,43,2],[44,1,44,2],[45,1,45,2],[46,1,46,2],[35,1,35,2],[36,1,36,2],[37,1,37,2],[38,1,38,2],[39,1,39,2],[40,1,40,2],[29,1,29,2],[30,1,30,2],[31,1,31,2],[32,1,32,2],[33,1,33,2],[34,1,34,2],[23,1,23,2],[24,1,24,2],[25,1,25,2],[26,1,26,2],[27,1,27,2],[28,1,28,2],[17,1,17,2],[18,1,18,2],[19,1,19,2],[20,1,20,2],[21,1,21,2],[22,1,22,2],[11,1,11,2],[12,1,12,2],[13,1,13,2],[14,1,14,2],[15,1,15,2],[16,1,16,2],[5,1,5,2],[6,1,6,2],[7,1,7,2],[8,1,8,2],[9,1,9,2],[10,1,10,2],[4,3,4,4],[2,1,3,9],[4,1,4,2]]}
[null,null,"FOLIOS PENDIENTES A LA FECHA DE REPORTE"]
[]
[null,"TIEMPO DE ATENCIÓN A SOLICITUDES DE INFORMACIÓN, FOLIOS DEL 05 DE MAYO AL 20 DE JUNIO DE 2016"]
[]
[null,null,null,"Unidad de Transparencia"]
[null,"Orientación",null,"Folio","Días"]
[1,"Sría Finanzas, CG, OM, JG",null,"3100000075616",0]
[{"$f":"SUM(A7+1)","v":2},"Sría Finanzas, CG, OM, JG",null,"3100000075716",0]
[{"$f":"SUM(A8+1)","v":3},"INAI",null,"3100000076316",1]
[4,"INAI",null,"3100000076416",1]
[5,"INAI",null,"3100000076516",1]
[6,"INAI",null,"3100000076616",1]
[7,"INAI",null,"3100000076716",1]
[8,"INAI",null,"3100000076816",1]
[9,"INAI",null,"3100000076916",1]
[10,"INVI",null,"3100000077116",2]
[11,"PGJDF",null,"3100000077216",1]
[12,"SHCP",null,"3100000077316",1]
[13,"SEMOVI, DEL. BJ",null,"3100000078116",2]
[14,"SEDECO, 16 DELEGS",null,"3100000078816",0]
[15,"SEDECO, 16 DELEGS",null,"3100000078916",0]
[16,"SEDECO, 16 DELEGS",null,"3100000079016",1]
[17,"SEDECO, 16 DELEGS",null,"3100000079116",0]
[18,"SCT, GACDMX",null,"3100000079816",1]
[19,"SCT, GACDMX",null,"3100000079916",1]
[20,"SCT, GACDMX",null,"3100000080016",1]
[21,"SCT, GACDMX",null,"3100000080116",1]
[22,"INAI",null,"3100000080816",1]
[23,"DEL. TLALPAN, SEDUVI",null,"3100000081316",1]
[24,"TRIBUNALES",null,"3100000081416",1]
[25,"TRIBUNALES",null,"3100000081516",1]
[26,"TRIBUNALES",null,"3100000081616",1]
[27,"CNBV",null,"3100000081816",0]
[28,"CNBV",null,"3100000081916",0]
[29,"CNBV",null,"3100000082016",0]
[30,"CNBV",null,"3100000082116",0]
[31,"CNBV",null,"3100000082216",0]
[32,"CNBV",null,"3100000082316",0]
[33,"CNBV",null,"3100000082416",0]
[34,"SEDUVI, PAOT, INVEA, DEL. AO",null,"3100000083416",0]
[35,"PEMEX",null,"3100000083716",0]
[36,"SRÍA SALUD-DF",null,"3100000083816",1]
[37,"SRÍA SALUD-DF",null,"3100000083916",1]
[38,"PEMEX EXPLORACIÓN",null,"3100000084016",0]
[39,"INAI",null,"3100000084716",1]
[40,"PGJDF",null,"3100000086016",0]
[41,"PGJDF",null,"3100000086116",0]
[42,"SHCP, ISSSTE",null,"3100000086216",0]
[43,"INC",null,"3100000086316",1]
[44,"INC",null,"3100000086416",1]
[45,"SF",null,"3100000086516",1]
[46,"SEDUVI  ",null,"3100000086616",0]
[47,"SEDUVI  ",null,"3100000086716",0]
[48,"SEDUVI  ",null,"3100000086816",0]
[49,"SEDUVI  ",null,"3100000086916",0]
[50,"ISSSTE",null,"3100000087016",0]
[51,"SEDUVI  ",null,"3100000087116",0]
[52,"ISSSTE",null,"3100000087216",0]
[53,"INAI",null,"3100000087816",0]
[54,"INAI",null,"3100000088016",1]
[55,"INAI",null,"3100000088116",1]
[56,"INAI",null,"3100000088216",1]
[57,"INAI",null,"3100000088316",0]
[58,"INAI",null,"3100000088416",0]
[59,"DEL. GAM",null,"3100000088516",1]
[60,"INAI",null,"3100000088616",0]
[61,"INAI",null,"3100000090616",0]
[62,"INAI",null,"3100000090716",0]
[63,"INAI",null,"3100000090816",0]
[64,"PGR, PGJDF",null,"3100000091316",1]
[65,"PGR, PGJDF",null,"3100000091416",1]
[66,"PGR, PGJDF",null,"3100000091616",0]
[{"$f":"SUM(A72+1)","v":67},"CONSEJERÍA JURÍDICA",null,"3100000092016",1]
[68,"CONSEJERÍA JURÍDICA",null,"3100000092116",1]
[69,"SSPDF, TSJDF, CJDF, PGJDF, SECGOB",null,"3100000092216",0]
[70,"INC",null,"3100000092316",0]
[71,"INC",null,"3100000092416",0]
[72,"CONSEJERÍA JURÍDICA",null,"3100000092616",1]
[73,"CONSEJERÍA JURÍDICA",null,"3100000092716",1]
[74,"SECTUR",null,"3100000092916",1]
[75,"CONSEJERÍA JURÍDICA",null,"3100000093016",1]
[76,"CONSEJERÍA JURÍDICA",null,"3100000093116",1]
[77,"CONSEJERÍA JURÍDICA",null,"3100000093216",1]
[78,"CONSEJERÍA JURÍDICA",null,"3100000093316",1]
[79,"CONSEJERÍA JURÍDICA",null,"3100000093416",1]
[80,"CONSEJERÍA JURÍDICA",null,"3100000093516",1]
[81,"CONSEJERÍA JURÍDICA",null,"3100000093616",1]
[82,"CONSEJERÍA JURÍDICA",null,"3100000093716",1]
[83,"CONSEJERÍA JURÍDICA",null,"3100000093816",0]
[84,"CONSEJERÍA JURÍDICA",null,"3100000093916",0]
[85,"H. CÁMARA DE DIPUTADOS",null,"3100000094416",1]
[86,"INAI",null,"3100000094616",2]
[87,"UNAM, INBA",null,"3100000094716",2]
[88,"PRESIDENCIA REP., JUDICATURA",null,"3100000094816",2]
[89,"PRESIDENCIA REP., JUDICATURA",null,"3100000094916",2]
[90,"INE",null,"3100000095016",0]
[91,"INE",null,"3100000095116",0]
[92,"INE",null,"3100000095216",0]
[93,"INE",null,"3100000095416",0]
[94,"SF, SEDUVI, DEL. IZTAP, REG. PUB.",null,"3100000095516",2]
[95,"SF, SEDUVI, DEL. IZTAP, REG. PUB.",null,"3100000095616",2]
[96,"SF, SEDUVI, DEL. IZTAP, REG. PUB.",null,"3100000095716",2]
[97,"SF, SEDUVI, DEL. IZTAP, REG. PUB.",null,"3100000095816",2]
[98,"IMSS",null,"3100000096016",1]
[99,"IMSS",null,"3100000096116",1]
[100,"INE",null,"3100000096216",1]
[101,"CONSAR",null,"3100000096316",1]
[102,"ASCDMX",null,"3100000096416",1]
[103,"INAI",null,"3100000096516",1]
[104,"INAI",null,"3100000096616",1]
[105,"INAI",null,"3100000096716",1]
[106,"INAI",null,"3100000096816",1]
[107,"INAI",null,"3100000096916",1]
[108,"INAI",null,"3100000097016",1]
[109,"PROSOC, TSJDF, DIF-DF, DIF, ",null,"3100000097116",1]
[110,"SSPDF, TSJDF, CJDF, PGJDF, SECGOB",null,"3100000097416",0]
[111,"IMSS",null,"3100000097916",0]
[112,"TODOS LOS PARTIDOS POLÍTICOS CDMX",null,"3100000098016",0]
[113,"SCJN",null,"3100000098216",0]
[114,"OROCURADURÍA Q. ROO",null,"3100000098616",0]
[115,"CONSAR",null,"3100000098816",0]
[116,"PGJDF, CONTRALORÍA GRAL.",null,"3100000098916",0]
[117,"IMSS",null,"3100000099016",0]
[118,"PGJDF, CONTRALORÍA GRAL.",null,"3100000099116",0]
[119,"PGJDF, CONTRALORÍA GRAL.",null,"3100000099216",0]
[120,"PGJDF, CONTRALORÍA GRAL.",null,"3100000099316",0]
[121,"PGJDF, CONTRALORÍA GRAL.",null,"3100000099416",0]
[122,"PGJDF, CONTRALORÍA GRAL.",null,"3100000099516",0]
[123,"PGJDF, CONTRALORÍA GRAL.",null,"3100000099716",0]
[124,"PGJDF, CONTRALORÍA GRAL.",null,"3100000099816",0]
[125,"SEMOVI, DEL. CUAJIMALPA",null,"3100000099916",0]
[126,"PGJDF, CONTRALORÍA GRAL.",null,"3100000100016",1]
[127,"PGJDF, CONTRALORÍA GRAL.",null,"3100000100116",1]
[128,"PGJDF, CONTRALORÍA GRAL.",null,"3100000100216",0]
[129,"PGJDF, CONTRALORÍA GRAL.",null,"3100000100516",0]
[130,"PGJDF, CONTRALORÍA GRAL.",null,"3100000100616",0]
[{"$f":"SUM(A136+1)","v":131},"PGJDF, CONTRALORÍA GRAL.",null,"3100000101016",0]
[132,"PGJDF, CONTRALORÍA GRAL.",null,"3100000101116",0]
[133,"PBI, CONTRALORÍA GRAL.",null,"3100000101216",0]
[134,"PGJDF, CONTRALORÍA GRAL.",null,"3100000101416",0]
[135,"PGJDF, CONTRALORÍA GRAL.",null,"3100000101516",0]
[136,"PGJDF, CONTRALORÍA GRAL.",null,"3100000101616",0]
[137,"PGJDF, CONTRALORÍA GRAL.",null,"3100000101716",0]
[138,"PGJDF, CONTRALORÍA GRAL.",null,"3100000101816",0]
[139,"PGJDF, CONTRALORÍA GRAL.",null,"3100000101916",0]
[140,"PGJDF, CONTRALORÍA GRAL.",null,"3100000102216",0]
[141,"SRE ",null,"3100000102716",1]
[142,"SSPDF  ",null,"3100000103316",2]
[143,"PGJDF",null,"3100000103416",2]
[144,"STC",null,"3100000103716",1]
[145,"ISSSTE",null,"3100000104216",2]
[146,"INM",null,"3100000104316",2]
[147,"SEDECO, 16 DELEGS",null,"3100000104416",1]
[148,"PGJDF, OFICIALÍA MAYOR",null,"3100000104816",1]
[149,"SCT, STC, SRÍA OBRAS",null,"3100000105216",0]
[150,"IMSS",null,"3100000105516",0]
[151,"SCJN. CAMARA DIPS, SENADO",null,"3100000105716",1]
[152,"INAI",null,"3100000105816",0]
[153,"SEMARNAT, PROFEPA",null,"3100000106216",0]
[154,"TSJDF, CJDF, CDHDF, SDIFDF, CJF",null,"3100000107016",0]
[155,"ISSSTE",null,"3100000107116",0]
[156,"ISSSTE",null,"3100000107216",0]
[157,"TSJDF  ",null,"3100000107316",0]
[158,"JGDF",null,"3100000107416",0]
[159,"SSPDF",null,"3100000107516",0]
[160,"ALDF",null,"3100000107616",3]
[161,"ISSSTE",null,"3100000107816",0]
[162,"SEDESO",null,"3100000108416",0]
[163,"OM, SERVIMET",null,"3100000108516",0]
[164,"SMA",null,"3100000108816",0]
[165,"SSPDF",null,"3100000109016",0]
[166,"SSPDF",null,"3100000109116",0]
[167,"IPN",null,"3100000112916",1]
[168,"IPN",null,"3100000113016",1]
[169,"IPN",null,"3100000113116",1]
[170,"IPN",null,"3100000113216",1]
[171,"SEDESO, SDIF-DF",null,"3100000114616"]
[172,"IMSS",null,"3100000114816"]
[173,"CFE, INEGI",null,"3100000115016"]
[174,"CFE, INEGI",null,"3100000115116"]
[175,"IEDF",null,"3100000115916"]
[176,"DEL. IZTAPALAPA",null,"3100000116016"]
[177,"M1, SEMOVI, STC, MB, INDEPI, SDIF-DF, OM, ILIE, 16 DELEGS",null,"3100000116116"]
[178]
[179]
[180]
[181]
[182]
[183]
[184]
[185]
[186]
[187]
[188]
[189]
[190]
[191]
[192]
[193]
[194]
[{"$f":"SUM(A200+1)","v":195}]
[196]
[197]
[198]
[199]
[200]
[201]
[202]
[203]
[]
[null,"PROMEDIO",null,null,{"$f":"AVERAGE(E7:E210)","v":0.58235294117647063}]

{"sheet":"5 DÍAS (2 o más UA)","index":6,"n_rows":20,"n_cols":14,"rows_kept":20,"cut":false,"hidden":true,"merged":[[8,16,8,17],[1,1,1,5],[6,1,6,13],[7,1,7,13],[8,1,9,1],[8,14,8,15]]}
[]
[]
[]
[]
[]
[]
[null,"ATENCIÓN A SOLICITUDES DE INFORMACIÓN, INFODF A MARZO 2014"]
[null,"ATENDIDAS POR \"DOS O MÁS UNIDADES ADMINISTRATIVAS\" (5 DÍAS HÁBILES)"]
[null,"Folio","Secretaría Técnica","Secretaría Ejecutiva","Contraloría","Dirección Jurídica y Desarrollo Normativo","Dirección de Capacitación y Cultura de la Transparencia","Dirección de Evaluación y Estudios","Dirección de Datos Personales","Dirección de Vinculación con la Sociedad","Dirección de Tecnologías de Información","Dirección de Administración y Finanzas","Dirección de Comunicación Social","Oficina de Información Pública"]
[null,null,"Días","Días","Días","Días","Días","Días","Días","Días","Días","Días","Días","Días"]
[]
[]
[]
[]
[]
[]
[]
[]
[]
[null,null,null,null,null,"                                                                                                                                                                                                                                                                                                                                                                                                                                                                                                                                                                                                                                                                                                                                                                                                                                                                                                                                                                                                                                                                                                                                                                                                                                                                                                                                                                                                                                                                                                                        "]

{"sheet":"5 DÍAS (1 UA)","index":7,"n_rows":18,"n_cols":25,"rows_kept":18,"cut":false,"hidden":false,"merged":[[3,1,3,24],[2,1,2,24],[4,25,4,26],[4,15,4,16],[4,17,4,18],[4,19,4,20],[4,21,4,22],[4,23,4,24],[4,9,4,10],[4,11,4,12],[4,13,4,14],[4,1,4,2],[4,3,4,4],[4,5,4,6],[4,7,4,8]]}
[null,null,"FOLIOS PENDIENTES A LA FECHA DE REPORTE"]
[]
[null,"TIEMPO DE ATENCIÓN A SOLICITUDES DE INFORMACIÓN, FOLIOS DEL 05 DE MAYO AL 20 DE JUNIO DE 2016"]
[null,"ATENDIDAS POR \"UNA UNIDAD ADMINISTRATIVA\" (5 DÍAS HÁBILES)"]
[null,"Secretaría Técnica",null,"Secretaría Ejecutiva",null,"Contraloría",null,"Dirección Jurídica y Desarrollo Normativo",null,"Dirección de Capacitación y Cultura de la Transparencia",null,"Dirección de Evaluación y Estudios",null,"Dirección de Datos Personales",null,"Dirección de Vinculación con la Sociedad",null,"Dirección de Tecnologías de Información",null,"Dirección de Administración y Finanzas",null,"Dirección de Comunicación Social",null,"Oficina de Información Pública"]
[null,"Folio","Días","Folio","Días","Folio","Días","Folio","Días","Folio","Días","Folio","Días","Folio","Días","Folio","Días","Folio","Días","Folio","Días","Folio","Días","Folio","Días"]
[1,null,null,null,null,null,null,"3100000081716",4,null,null,null,null,null,null,null,null,null,null,"3100000092516",3]
[{"$f":"SUM(A7+1)","v":2}]
[{"$f":"SUM(A8+1)","v":3}]
[4]
[5]
[6]
[7]
[8]
[9]
[10]
[]
[null,"PROMEDIO",{"$f":"AVERAGE(C7:C17)","v":{"$error":"#DIV/0!"}},"PROMEDIO",{"$f":"AVERAGE(E7:E17)","v":{"$error":"#DIV/0!"}},"PROMEDIO",{"$f":"AVERAGE(G7:G17)","v":{"$error":"#DIV/0!"}},"PROMEDIO",{"$f":"AVERAGE(I7:I17)","v":4},"PROMEDIO",{"$f":"AVERAGE(K7:K17)","v":{"$error":"#DIV/0!"}},"PROMEDIO",{"$f":"AVERAGE(M7:M17)","v":{"$error":"#DIV/0!"}},"PROMEDIO",{"$f":"AVERAGE(O7:O17)","v":{"$error":"#DIV/0!"}},"PROMEDIO",{"$f":"AVERAGE(Q7:Q17)","v":{"$error":"#DIV/0!"}},"PROMEDIO",{"$f":"AVERAGE(S7:S17)","v":{"$error":"#DIV/0!"}},"PROMEDIO",{"$f":"AVERAGE(U7:U17)","v":3},"PROMEDIO",{"$f":"AVERAGE(W7:W17)","v":{"$error":"#DIV/0!"}},"PROMEDIO",{"$f":"AVERAGE(Y7:Y17)","v":{"$error":"#DIV/0!"}}]

{"sheet":"5 DIAS (2 o más UA)","index":8,"n_rows":17,"n_cols":14,"rows_kept":17,"cut":false,"hidden":false,"merged":[[2,1,2,13],[3,1,3,13],[4,1,5,1],[4,14,4,15],[4,16,4,17]]}
[null,null,"FOLIOS PENDIENTES A LA FECHA DE REPORTE"]
[]
[null,"TIEMPO DE ATENCIÓN A SOLICITUDES DE INFORMACIÓN, FOLIOS DEL 05 DE MAYO AL 20 DE JUNIO DE 2016"]
[null,"SIP DE 5 DÍAS ATENDIDAS POR 2 o MÁS UA"]
[null,"Folio","Secretaría Técnica","Secretaría Ejecutiva","Contraloría","Dirección Jurídica y Desarrollo Normativo","Dirección de Capacitación y Cultura de la Transparencia","Dirección de Evaluación y Estudios","Dirección de Datos Personales","Dirección de Vinculación con la Sociedad","Dirección de Tecnologías de Información","Dirección de Administración y Finanzas","Dirección de Comunicación Social","Oficina de Información Pública"]
[null,null,"Días","Días","Días","Días","Días","Días","Días","Días","Días","Días","Días","Días"]
[1]
[2]
[3]
[4]
[5]
[6]
[7]
[8]
[9]
[10]
[null,"PROMEDIO",{"$f":"AVERAGE(C7:C16)","v":{"$error":"#DIV/0!"}},{"$error":"#DIV/0!"},{"$error":"#DIV/0!"},{"$error":"#DIV/0!"},{"$error":"#DIV/0!"},{"$error":"#DIV/0!"},{"$error":"#DIV/0!"},{"$error":"#DIV/0!"},{"$error":"#DIV/0!"},{"$error":"#DIV/0!"},{"$error":"#DIV/0!"},{"$error":"#DIV/0!"}]

{"sheet":"RESUMEN POR UA","index":9,"n_rows":17,"n_cols":15,"rows_kept":17,"cut":false,"hidden":true,"merged":[[0,0,0,14],[1,11,1,12],[1,13,1,14],[1,0,2,0],[1,1,1,2],[1,5,1,6],[1,9,1,10],[1,3,1,4],[1,7,1,8]]}
["TIEMPO DE ATENCIÓN A SOLICITUDES DE INFORMACIÓN POR UNIDAD ADMINISTRATIVA, FOLIOS AL 15 DE JUNIO DE 2015"]
["Unidad Administrativa","SIP de 10 días atendidas por una UA",null,"SIP de 20 días atendidas por una UA",null,"SIP de 10 días atendidas por dos o más UA",null,"SIP de 20 días atendidas por dos o más UA",null,"Solicitudes Acceso Restringido",null,"SIP de 5 días atendidas por 1 UA",null,"SIP de 5 días atendidas por 2 o más UA"]
[null,"Folios","Promedio días atención","Folios","Promedio días atención","Folios","Promedio días atención","Folios","Promedio días atención","Folios","Promedio días atención","Folios","Promedio días atención","Folios","Promedio días atención"]
["Secretaría Técnica",{"$f":"COUNT('9 DÍAS (1 UA)'!C11:C36)","v":11},{"$f":"'9 DÍAS (1 UA)'!C38","v":5.8181818181818183},{"$f":"COUNT('18 DÍAS (1 UA)'!C9:C20)","v":0},null,{"$f":"COUNT('9 DÍAS (2 o más UA)'!C7:C52)","v":1},{"$f":"'9 DÍAS (2 o más UA)'!#REF!","v":{"$error":"#REF!"}},{"$f":"COUNTIF('18 DÍAS (2 o más UA)'!C7:C8, \">10\")","v":0},{"$f":"'18 DÍAS (2 o más UA)'!C34","v":{"$error":"#DIV/0!"}},{"$f":"CountCcolor('Solicitudes Acceso restringido'!$B$2,'Solicitudes Acceso restringido'!C9:C18)","v":0},null,{"$f":"COUNT('5 DÍAS (1 UA)'!C7:C16)","v":0},{"$f":"'5 DÍAS (1 UA)'!C18","v":{"$error":"#DIV/0!"}},{"$f":"COUNT('5 DIAS (2 o más UA)'!C7:C16)","v":0},{"$f":"'5 DIAS (2 o más UA)'!C17","v":{"$error":"#DIV/0!"}}]
["Secretaría Ejecutiva",{"$f":"COUNT('9 DÍAS (1 UA)'!E11:E36)","v":0},{"$f":"'9 DÍAS (1 UA)'!E38","v":{"$error":"#DIV/0!"}},{"$f":"COUNT('18 DÍAS (1 UA)'!E9:E20)","v":0},null,{"$f":"COUNT('9 DÍAS (2 o más UA)'!D7:D52)","v":1},{"$f":"'9 DÍAS (2 o más UA)'!#REF!","v":{"$error":"#REF!"}},{"$f":"COUNTIF('18 DÍAS (2 o más UA)'!D7:D8, \">10\")","v":0},{"$f":"'18 DÍAS (2 o más UA)'!D34","v":{"$error":"#DIV/0!"}},{"$f":"CountCcolor('Solicitudes Acceso restringido'!$B$2,'Solicitudes Acceso restringido'!D9:D18)","v":0},null,{"$f":"COUNT('5 DÍAS (1 UA)'!E7:E16)","v":0},{"$f":"'5 DÍAS (1 UA)'!E18","v":{"$error":"#DIV/0!"}},{"$f":"COUNT('5 DIAS (2 o más UA)'!D7:D16)","v":0},{"$f":"'5 DIAS (2 o más UA)'!D17","v":{"$error":"#DIV/0!"}}]
["Contraloría",{"$f":"COUNT('9 DÍAS (1 UA)'!G11:G36)","v":1},{"$f":"'9 DÍAS (1 UA)'!G38","v":5},{"$f":"COUNT('18 DÍAS (1 UA)'!G9:G20)","v":0},null,{"$f":"COUNT('9 DÍAS (2 o más UA)'!E7:E52)","v":1},{"$f":"'9 DÍAS (2 o más UA)'!#REF!","v":{"$error":"#REF!"}},{"$f":"COUNTIF('18 DÍAS (2 o más UA)'!E7:E8, \">10\")","v":0},null,{"$f":"CountCcolor('Solicitudes Acceso restringido'!$B$2,'Solicitudes Acceso restringido'!E9:E18)","v":0},{"$f":"'Solicitudes Acceso restringido'!E19","v":{"$error":"#DIV/0!"}},{"$f":"COUNT('5 DÍAS (1 UA)'!G7:G16)","v":0},{"$f":"'5 DÍAS (1 UA)'!G18","v":{"$error":"#DIV/0!"}},{"$f":"COUNT('5 DIAS (2 o más UA)'!E7:E16)","v":0},{"$f":"'5 DIAS (2 o más UA)'!E17","v":{"$error":"#DIV/0!"}}]
["DJDN",{"$f":"COUNT('9 DÍAS (1 UA)'!I11:I36)","v":10},{"$f":"'9 DÍAS (1 UA)'!I38","v":7.5},{"$f":"COUNT('18 DÍAS (1 UA)'!I9:I20)","v":0},{"$f":"'18 DÍAS (1 UA)'!I21","v":{"$error":"#DIV/0!"}},{"$f":"COUNT('9 DÍAS (2 o más UA)'!F7:F52)","v":17},{"$f":"'9 DÍAS (2 o más UA)'!#REF!","v":{"$error":"#REF!"}},{"$f":"COUNTIF('18 DÍAS (2 o más UA)'!F7:F8, \">10\")","v":0},{"$f":"'18 DÍAS (2 o más UA)'!F34","v":{"$error":"#DIV/0!"}},{"$f":"CountCcolor('Solicitudes Acceso restringido'!$B$2,'Solicitudes Acceso restringido'!F9:F18)","v":1},{"$f":"'Solicitudes Acceso restringido'!F19","v":9},{"$f":"COUNT('5 DÍAS (1 UA)'!I7:I16)","v":1},{"$f":"'5 DÍAS (1 UA)'!I18","v":4},{"$f":"COUNT('5 DIAS (2 o más UA)'!F7:F16)","v":0},{"$f":"'5 DIAS (2 o más UA)'!F17","v":{"$error":"#DIV/0!"}}]
["DCCT",{"$f":"COUNT('9 DÍAS (1 UA)'!K11:K36)","v":1},{"$f":"'9 DÍAS (1 UA)'!K38","v":3},{"$f":"COUNT('18 DÍAS (1 UA)'!K9:K20)","v":0},null,{"$f":"COUNT('9 DÍAS (2 o más UA)'!G7:G52)","v":2},{"$f":"'9 DÍAS (2 o más UA)'!#REF!","v":{"$error":"#REF!"}},{"$f":"COUNTIF('18 DÍAS (2 o más UA)'!G7:G8, \">10\")","v":0},null,{"$f":"CountCcolor('Solicitudes Acceso restringido'!$B$2,'Solicitudes Acceso restringido'!G9:G18)","v":0},{"$f":"'Solicitudes Acceso restringido'!G19","v":{"$error":"#DIV/0!"}},{"$f":"COUNT('5 DÍAS (1 UA)'!K7:K16)","v":0},{"$f":"'5 DÍAS (1 UA)'!K18","v":{"$error":"#DIV/0!"}},{"$f":"COUNT('5 DIAS (2 o más UA)'!G7:G16)","v":0},{"$f":"'5 DIAS (2 o más UA)'!G17","v":{"$error":"#DIV/0!"}}]
["DEyE",{"$f":"COUNT('9 DÍAS (1 UA)'!M11:M36)","v":5},{"$f":"'9 DÍAS (1 UA)'!M38","v":3.4},{"$f":"COUNT('18 DÍAS (1 UA)'!M9:M20)","v":0},{"$f":"'18 DÍAS (1 UA)'!M21","v":{"$error":"#DIV/0!"}},{"$f":"COUNT('9 DÍAS (2 o más UA)'!H7:H52)","v":2},{"$f":"'9 DÍAS (2 o más UA)'!#REF!","v":{"$error":"#REF!"}},{"$f":"COUNTIF('18 DÍAS (2 o más UA)'!H7:H8, \">10\")","v":0},{"$f":"'18 DÍAS (2 o más UA)'!H34","v":{"$error":"#DIV/0!"}},{"$f":"CountCcolor('Solicitudes Acceso restringido'!$B$2,'Solicitudes Acceso restringido'!H9:H18)","v":0},null,{"$f":"COUNT('5 DÍAS (1 UA)'!M7:M16)","v":0},{"$f":"'5 DÍAS (1 UA)'!M18","v":{"$error":"#DIV/0!"}},{"$f":"COUNT('5 DIAS (2 o más UA)'!H7:H16)","v":0},{"$f":"'5 DIAS (2 o más UA)'!H17","v":{"$error":"#DIV/0!"}}]
["DDP",{"$f":"COUNT('9 DÍAS (1 UA)'!O11:O36)","v":10},{"$f":"'9 DÍAS (1 UA)'!O38","v":6.5},{"$f":"COUNT('18 DÍAS (1 UA)'!O9:O20)","v":0},null,{"$f":"COUNT('9 DÍAS (2 o más UA)'!I7:I52)","v":12},{"$f":"'9 DÍAS (2 o más UA)'!#REF!","v":{"$error":"#REF!"}},{"$f":"COUNTIF('18 DÍAS (2 o más UA)'!I7:I8, \">10\")","v":0},null,{"$f":"CountCcolor('Solicitudes Acceso restringido'!$B$2,'Solicitudes Acceso restringido'!I9:I18)","v":0},null,{"$f":"COUNT('5 DÍAS (1 UA)'!O7:O16)","v":0},null,{"$f":"COUNT('5 DIAS (2 o más UA)'!I7:I16)","v":0},{"$f":"'5 DIAS (2 o más UA)'!I17","v":{"$error":"#DIV/0!"}}]
["DVS",{"$f":"COUNT('9 DÍAS (1 UA)'!Q11:Q36)","v":1},{"$f":"'9 DÍAS (1 UA)'!Q38","v":3},{"$f":"COUNT('18 DÍAS (1 UA)'!Q9:Q20)","v":0},null,{"$f":"COUNT('9 DÍAS (2 o más UA)'!J7:J52)","v":2},{"$f":"'9 DÍAS (2 o más UA)'!#REF!","v":{"$error":"#REF!"}},{"$f":"COUNTIF('18 DÍAS (2 o más UA)'!J7:J8, \">10\")","v":0},null,{"$f":"CountCcolor('Solicitudes Acceso restringido'!$B$2,'Solicitudes Acceso restringido'!J9:J18)","v":0},{"$f":"'Solicitudes Acceso restringido'!J19","v":{"$error":"#DIV/0!"}},{"$f":"COUNT('5 DÍAS (1 UA)'!Q7:Q16)","v":0},{"$f":"'5 DÍAS (1 UA)'!Q18","v":{"$error":"#DIV/0!"}},{"$f":"COUNT('5 DIAS (2 o más UA)'!J7:J16)","v":0},{"$f":"'5 DIAS (2 o más UA)'!J17","v":{"$error":"#DIV/0!"}}]
["DTI",{"$f":"COUNT('9 DÍAS (1 UA)'!S11:S36)","v":8},{"$f":"'9 DÍAS (1 UA)'!S38","v":3.125},{"$f":"COUNT('18 DÍAS (1 UA)'!S9:S20)","v":0},{"$f":"'18 DÍAS (1 UA)'!S21","v":{"$error":"#DIV/0!"}},{"$f":"COUNT('9 DÍAS (2 o más UA)'!K7:K52)","v":4},{"$f":"'9 DÍAS (2 o más UA)'!#REF!","v":{"$error":"#REF!"}},{"$f":"COUNTIF('18 DÍAS (2 o más UA)'!K7:K8, \">10\")","v":0},{"$f":"'18 DÍAS (2 o más UA)'!K34","v":{"$error":"#DIV/0!"}},{"$f":"CountCcolor('Solicitudes Acceso restringido'!$B$2,'Solicitudes Acceso restringido'!K9:K18)","v":1},null,{"$f":"COUNT('5 DÍAS (1 UA)'!S7:S16)","v":0},null,{"$f":"COUNT('5 DIAS (2 o más UA)'!K7:K16)","v":0}]
["DAF",{"$f":"COUNT('9 DÍAS (1 UA)'!U11:U36)","v":14},{"$f":"'9 DÍAS (1 UA)'!U38","v":6},{"$f":"COUNT('18 DÍAS (1 UA)'!U9:U20)","v":0},null,{"$f":"COUNT('9 DÍAS (2 o más UA)'!L7:L52)","v":3},{"$f":"'9 DÍAS (2 o más UA)'!#REF!","v":{"$error":"#REF!"}},{"$f":"COUNTIF('18 DÍAS (2 o más UA)'!L7:L8, \">10\")","v":0},{"$f":"'18 DÍAS (2 o más UA)'!L34","v":{"$error":"#DIV/0!"}},{"$f":"CountCcolor('Solicitudes Acceso restringido'!$B$2,'Solicitudes Acceso restringido'!L9:L18)","v":4},{"$f":"'Solicitudes Acceso restringido'!L19","v":10.5},{"$f":"COUNT('5 DÍAS (1 UA)'!U7:U16)","v":1},{"$f":"'5 DÍAS (1 UA)'!U18","v":3},{"$f":"COUNT('5 DIAS (2 o más UA)'!L7:L16)","v":0},{"$f":"'5 DIAS (2 o más UA)'!L17","v":{"$error":"#DIV/0!"}}]
["DCS",{"$f":"COUNT('9 DÍAS (1 UA)'!W11:W36)","v":1},{"$f":"'9 DÍAS (1 UA)'!W38","v":2},{"$f":"COUNT('18 DÍAS (1 UA)'!W9:W20)","v":0},null,{"$f":"COUNT('9 DÍAS (2 o más UA)'!M7:M52)","v":3},null,{"$f":"COUNTIF('18 DÍAS (2 o más UA)'!M7:M8, \">10\")","v":0},null,{"$f":"CountCcolor('Solicitudes Acceso restringido'!$B$2,'Solicitudes Acceso restringido'!M9:M18)","v":0},null,{"$f":"COUNT('5 DÍAS (1 UA)'!W7:W16)","v":0},null,{"$f":"COUNT('5 DIAS (2 o más UA)'!M7:M16)","v":0},{"$f":"'5 DIAS (2 o más UA)'!M17","v":{"$error":"#DIV/0!"}}]
["OIP",{"$f":"COUNT('9 DÍAS (1 UA)'!Y11:Y36)","v":0},{"$f":"'9 DÍAS (1 UA)'!Y38","v":{"$error":"#DIV/0!"}},{"$f":"COUNT('18 DÍAS (1 UA)'!Y9:Y20)","v":0},null,{"$f":"COUNT('9 DÍAS (2 o más UA)'!N7:N52)","v":5},{"$f":"'9 DÍAS (2 o más UA)'!#REF!","v":{"$error":"#REF!"}},{"$f":"COUNTIF('18 DÍAS (2 o más UA)'!N7:N8, \">10\")","v":0},null,{"$f":"CountCcolor('Solicitudes Acceso restringido'!$B$2,'Solicitudes Acceso restringido'!N9:N18)","v":0},null,{"$f":"COUNT('5 DÍAS (1 UA)'!Y7:Y16)","v":0},{"$f":"'5 DÍAS (1 UA)'!Y18","v":{"$error":"#DIV/0!"}},{"$f":"COUNT('5 DIAS (2 o más UA)'!N7:N16)","v":0},{"$f":"'5 DIAS (2 o más UA)'!N17","v":{"$error":"#DIV/0!"}}]
[]
[null,"FOLIOS PENDIENTES A LA FECHA DE REPORTE"]

{"sheet":"TABLAS","index":10,"n_rows":15,"n_cols":18,"rows_kept":15,"cut":false,"hidden":false,"merged":[[0,15,1,15],[0,16,1,16],[0,11,0,12],[0,13,0,14],[0,1,0,2],[0,3,0,4],[0,5,0,6],[0,7,0,8],[0,9,0,10]]}
["Unidad Administrativa","SIP de 9 días atendidas por una UA",null,"SIP de 18 días atendidas por una UA",null,"SIP de 9 días atendidas por dos o más UA",null,"SIP de 18 días atendidas por dos o más UA",null,"Solicitudes Acceso Restringido",null,"SIP de 5 días atendidas por 1 UA",null,"SIP de 5 días atendidas por 2 o más UA",null,"No. total solicitudes / UA","Promedio UA (9 DÍAS)"]
[null,"Folios","Promedio días atención","Folios","Promedio días atención","Folios","Promedio días atención","Folios","Promedio días atención","Folios","Promedio días atención","Folios","Promedio días atención","Folios","Promedio días atención"]
["Secretaría Técnica",{"$f":"COUNT('9 DÍAS (1 UA)'!C11:C36)","v":11},{"$f":"'9 DÍAS (1 UA)'!C38","v":5.8181818181818183},{"$f":"COUNT('18 DÍAS (1 UA)'!C9:C20)","v":0},{"$f":"'18 DÍAS (1 UA)'!C21","v":{"$error":"#DIV/0!"}},{"$f":"COUNT('9 DÍAS (2 o más UA)'!C7:C52)","v":1},{"$f":"'9 DÍAS (2 o más UA)'!C54","v":1},{"$f":"COUNTIF('18 DÍAS (2 o más UA)'!C7:C8, \">10\")","v":0},{"$f":"'18 DÍAS (2 o más UA)'!C34","v":{"$error":"#DIV/0!"}},{"$f":"CountCcolor('Solicitudes Acceso restringido'!$B$2,'Solicitudes Acceso restringido'!C9:C18)","v":0},{"$f":"'Solicitudes Acceso restringido'!C19","v":{"$error":"#DIV/0!"}},{"$f":"COUNT('5 DÍAS (1 UA)'!C7:C16)","v":0},{"$f":"'5 DÍAS (1 UA)'!C18","v":{"$error":"#DIV/0!"}},{"$f":"COUNT('5 DIAS (2 o más UA)'!C7:C16)","v":0},{"$f":"'5 DIAS (2 o más UA)'!C17","v":{"$error":"#DIV/0!"}},{"$f":"SUM(B3+D3+F3+H3+J3+L3+N3)","v":12},{"$f":"AVERAGE(C3,G3)","v":3.4090909090909092},7]
["Secretaría Ejecutiva",{"$f":"COUNT('9 DÍAS (1 UA)'!E11:E36)","v":0},{"$f":"'9 DÍAS (1 UA)'!E38","v":{"$error":"#DIV/0!"}},{"$f":"COUNT('18 DÍAS (1 UA)'!E9:E20)","v":0},{"$f":"'18 DÍAS (1 UA)'!E21","v":{"$error":"#DIV/0!"}},{"$f":"COUNT('9 DÍAS (2 o más UA)'!D7:D52)","v":1},{"$f":"'9 DÍAS (2 o más UA)'!D54","v":9},{"$f":"COUNTIF('18 DÍAS (2 o más UA)'!D7:D8, \">10\")","v":0},{"$f":"'18 DÍAS (2 o más UA)'!D34","v":{"$error":"#DIV/0!"}},{"$f":"CountCcolor('Solicitudes Acceso restringido'!$B$2,'Solicitudes Acceso restringido'!D9:D18)","v":0},{"$f":"'Solicitudes Acceso restringido'!D19","v":{"$error":"#DIV/0!"}},{"$f":"COUNT('5 DÍAS (1 UA)'!E7:E16)","v":0},{"$f":"'5 DÍAS (1 UA)'!E18","v":{"$error":"#DIV/0!"}},{"$f":"COUNT('5 DIAS (2 o más UA)'!D7:D16)","v":0},{"$f":"'5 DIAS (2 o más UA)'!D17","v":{"$error":"#DIV/0!"}},1,{"$f":"AVERAGE(G4)","v":9}]
["Contraloría",{"$f":"COUNT('9 DÍAS (1 UA)'!G11:G36)","v":1},{"$f":"'9 DÍAS (1 UA)'!G38","v":5},{"$f":"COUNT('18 DÍAS (1 UA)'!G9:G20)","v":0},{"$f":"'18 DÍAS (1 UA)'!G21","v":{"$error":"#DIV/0!"}},{"$f":"COUNT('9 DÍAS (2 o más UA)'!E7:E52)","v":1},{"$f":"'9 DÍAS (2 o más UA)'!E54","v":3},{"$f":"COUNTIF('18 DÍAS (2 o más UA)'!E7:E8, \">10\")","v":0},{"$f":"'18 DÍAS (2 o más UA)'!E34","v":{"$error":"#DIV/0!"}},{"$f":"CountCcolor('Solicitudes Acceso restringido'!$B$2,'Solicitudes Acceso restringido'!E9:E18)","v":0},{"$f":"'Solicitudes Acceso restringido'!E19","v":{"$error":"#DIV/0!"}},{"$f":"COUNT('5 DÍAS (1 UA)'!G7:G16)","v":0},{"$f":"'5 DÍAS (1 UA)'!G18","v":{"$error":"#DIV/0!"}},{"$f":"COUNT('5 DIAS (2 o más UA)'!E7:E16)","v":0},{"$f":"'5 DIAS (2 o más UA)'!E17","v":{"$error":"#DIV/0!"}},2,{"$f":"AVERAGE(C5,G5)","v":4}]
["DJDN",{"$f":"COUNT('9 DÍAS (1 UA)'!I11:I36)","v":10},{"$f":"'9 DÍAS (1 UA)'!I38","v":7.5},{"$f":"COUNT('18 DÍAS (1 UA)'!I9:I20)","v":0},{"$f":"'18 DÍAS (1 UA)'!I21","v":{"$error":"#DIV/0!"}},{"$f":"COUNT('9 DÍAS (2 o más UA)'!F7:F52)","v":17},{"$f":"'9 DÍAS (2 o más UA)'!F54","v":7.2941176470588234},{"$f":"COUNTIF('18 DÍAS (2 o más UA)'!F7:F8, \">10\")","v":0},{"$f":"'18 DÍAS (2 o más UA)'!F34","v":{"$error":"#DIV/0!"}},{"$f":"CountCcolor('Solicitudes Acceso restringido'!$B$2,'Solicitudes Acceso restringido'!F9:F18)","v":1},{"$f":"'Solicitudes Acceso restringido'!F19","v":9},{"$f":"COUNT('5 DÍAS (1 UA)'!I7:I16)","v":1},{"$f":"'5 DÍAS (1 UA)'!I18","v":4},{"$f":"COUNT('5 DIAS (2 o más UA)'!F7:F16)","v":0},{"$f":"'5 DIAS (2 o más UA)'!F17","v":{"$error":"#DIV/0!"}},29,{"$f":"AVERAGE(C6,G6,K6)","v":7.9313725490196072},9]
["DCCT",{"$f":"COUNT('9 DÍAS (1 UA)'!K11:K36)","v":1},{"$f":"'9 DÍAS (1 UA)'!K38","v":3},{"$f":"COUNT('18 DÍAS (1 UA)'!K9:K20)","v":0},{"$f":"'18 DÍAS (1 UA)'!K21","v":{"$error":"#DIV/0!"}},{"$f":"COUNT('9 DÍAS (2 o más UA)'!G7:G52)","v":2},{"$f":"'9 DÍAS (2 o más UA)'!G54","v":3.5},{"$f":"COUNTIF('18 DÍAS (2 o más UA)'!G7:G8, \">10\")","v":0},{"$f":"'18 DÍAS (2 o más UA)'!G34","v":{"$error":"#DIV/0!"}},{"$f":"CountCcolor('Solicitudes Acceso restringido'!$B$2,'Solicitudes Acceso restringido'!G9:G18)","v":0},{"$f":"'Solicitudes Acceso restringido'!G19","v":{"$error":"#DIV/0!"}},{"$f":"COUNT('5 DÍAS (1 UA)'!K7:K16)","v":0},{"$f":"'5 DÍAS (1 UA)'!K18","v":{"$error":"#DIV/0!"}},{"$f":"COUNT('5 DIAS (2 o más UA)'!G7:G16)","v":0},{"$f":"'5 DIAS (2 o más UA)'!G17","v":{"$error":"#DIV/0!"}},3,{"$f":"AVERAGE(C7,G7)","v":3.25},4]
["DEyE",{"$f":"COUNT('9 DÍAS (1 UA)'!M11:M36)","v":5},{"$f":"'9 DÍAS (1 UA)'!M38","v":3.4},{"$f":"COUNT('18 DÍAS (1 UA)'!M9:M20)","v":0},{"$f":"'18 DÍAS (1 UA)'!M21","v":{"$error":"#DIV/0!"}},{"$f":"COUNT('9 DÍAS (2 o más UA)'!H7:H52)","v":2},{"$f":"'9 DÍAS (2 o más UA)'!H54","v":3},{"$f":"COUNTIF('18 DÍAS (2 o más UA)'!H7:H8, \">10\")","v":0},{"$f":"'18 DÍAS (2 o más UA)'!H34","v":{"$error":"#DIV/0!"}},{"$f":"CountCcolor('Solicitudes Acceso restringido'!$B$2,'Solicitudes Acceso restringido'!H9:H18)","v":0},{"$f":"'Solicitudes Acceso restringido'!H19","v":{"$error":"#DIV/0!"}},{"$f":"COUNT('5 DÍAS (1 UA)'!M7:M16)","v":0},{"$f":"'5 DÍAS (1 UA)'!M18","v":{"$error":"#DIV/0!"}},{"$f":"COUNT('5 DIAS (2 o más UA)'!H7:H16)","v":0},{"$f":"'5 DIAS (2 o más UA)'!H17","v":{"$error":"#DIV/0!"}},7,3.8,3]
["DDP",{"$f":"COUNT('9 DÍAS (1 UA)'!O11:O36)","v":10},{"$f":"'9 DÍAS (1 UA)'!O38","v":6.5},{"$f":"COUNT('18 DÍAS (1 UA)'!O9:O20)","v":0},{"$f":"'18 DÍAS (1 UA)'!O21","v":{"$error":"#DIV/0!"}},{"$f":"COUNT('9 DÍAS (2 o más UA)'!I7:I52)","v":12},{"$f":"'9 DÍAS (2 o más UA)'!I54","v":6.833333333333333},{"$f":"COUNTIF('18 DÍAS (2 o más UA)'!I7:I8, \">10\")","v":0},{"$f":"'18 DÍAS (2 o más UA)'!I34","v":{"$error":"#DIV/0!"}},{"$f":"CountCcolor('Solicitudes Acceso restringido'!$B$2,'Solicitudes Acceso restringido'!I9:I18)","v":0},{"$f":"'Solicitudes Acceso restringido'!I19","v":{"$error":"#DIV/0!"}},{"$f":"COUNT('5 DÍAS (1 UA)'!O7:O16)","v":0},{"$f":"'5 DÍAS (1 UA)'!O18","v":{"$error":"#DIV/0!"}},{"$f":"COUNT('5 DIAS (2 o más UA)'!I7:I16)","v":0},{"$f":"'5 DIAS (2 o más UA)'!I17","v":{"$error":"#DIV/0!"}},22,{"$f":"AVERAGE(C9,G9)","v":6.6666666666666661},8]
["DVS",{"$f":"COUNT('9 DÍAS (1 UA)'!Q11:Q36)","v":1},{"$f":"'9 DÍAS (1 UA)'!Q38","v":3},{"$f":"COUNT('18 DÍAS (1 UA)'!Q9:Q20)","v":0},{"$f":"'18 DÍAS (1 UA)'!K21","v":{"$error":"#DIV/0!"}},{"$f":"COUNT('9 DÍAS (2 o más UA)'!J7:J52)","v":2},{"$f":"'9 DÍAS (2 o más UA)'!J54","v":4},{"$f":"COUNTIF('18 DÍAS (2 o más UA)'!J7:J8, \">10\")","v":0},{"$f":"'18 DÍAS (2 o más UA)'!J34","v":{"$error":"#DIV/0!"}},{"$f":"CountCcolor('Solicitudes Acceso restringido'!$B$2,'Solicitudes Acceso restringido'!J9:J18)","v":0},{"$f":"'Solicitudes Acceso restringido'!J19","v":{"$error":"#DIV/0!"}},{"$f":"COUNT('5 DÍAS (1 UA)'!Q7:Q16)","v":0},{"$f":"'5 DÍAS (1 UA)'!Q18","v":{"$error":"#DIV/0!"}},{"$f":"COUNT('5 DIAS (2 o más UA)'!J7:J16)","v":0},{"$f":"'5 DIAS (2 o más UA)'!J17","v":{"$error":"#DIV/0!"}},3,{"$f":"AVERAGE(C10,G10)","v":3.5},2]
["DTI",{"$f":"COUNT('9 DÍAS (1 UA)'!S11:S36)","v":8},{"$f":"'9 DÍAS (1 UA)'!S38","v":3.125},{"$f":"COUNT('18 DÍAS (1 UA)'!S9:S20)","v":0},{"$f":"'18 DÍAS (1 UA)'!S21","v":{"$error":"#DIV/0!"}},{"$f":"COUNT('9 DÍAS (2 o más UA)'!K7:K52)","v":4},{"$f":"'9 DÍAS (2 o más UA)'!K54","v":3.5},{"$f":"COUNTIF('18 DÍAS (2 o más UA)'!K7:K8, \">10\")","v":0},{"$f":"'18 DÍAS (2 o más UA)'!K34","v":{"$error":"#DIV/0!"}},{"$f":"CountCcolor('Solicitudes Acceso restringido'!$B$2,'Solicitudes Acceso restringido'!K9:K18)","v":1},{"$f":"'Solicitudes Acceso restringido'!K19","v":7},{"$f":"COUNT('5 DÍAS (1 UA)'!S7:S16)","v":0},{"$f":"'5 DÍAS (1 UA)'!S18","v":{"$error":"#DIV/0!"}},{"$f":"COUNT('5 DIAS (2 o más UA)'!K7:K16)","v":0},{"$f":"'5 DIAS (2 o más UA)'!K17","v":{"$error":"#DIV/0!"}},13,{"$f":"AVERAGE(C11,G11,K11)","v":4.541666666666667},5]
["DAF",{"$f":"COUNT('9 DÍAS (1 UA)'!U11:U36)","v":14},{"$f":"'9 DÍAS (1 UA)'!U38","v":6},{"$f":"COUNT('18 DÍAS (1 UA)'!U9:U20)","v":0},{"$f":"'18 DÍAS (1 UA)'!U21","v":{"$error":"#DIV/0!"}},{"$f":"COUNT('9 DÍAS (2 o más UA)'!L7:L52)","v":3},{"$f":"'9 DÍAS (2 o más UA)'!L54","v":8.6666666666666661},{"$f":"COUNTIF('18 DÍAS (2 o más UA)'!L7:L8, \">10\")","v":0},{"$f":"'18 DÍAS (2 o más UA)'!L34","v":{"$error":"#DIV/0!"}},{"$f":"CountCcolor('Solicitudes Acceso restringido'!$B$2,'Solicitudes Acceso restringido'!L9:L18)","v":4},{"$f":"'Solicitudes Acceso restringido'!L19","v":10.5},{"$f":"COUNT('5 DÍAS (1 UA)'!U7:U16)","v":1},{"$f":"'5 DÍAS (1 UA)'!U18","v":3},{"$f":"COUNT('5 DIAS (2 o más UA)'!L7:L16)","v":0},{"$f":"'5 DIAS (2 o más UA)'!L17","v":{"$error":"#DIV/0!"}},22,{"$f":"AVERAGE(C12,G12,K12)","v":8.3888888888888875},6]
["DCS",{"$f":"COUNT('9 DÍAS (1 UA)'!W11:W36)","v":1},{"$f":"'9 DÍAS (1 UA)'!W38","v":2},{"$f":"COUNT('18 DÍAS (1 UA)'!W9:W20)","v":0},{"$f":"'18 DÍAS (1 UA)'!W21","v":{"$error":"#DIV/0!"}},{"$f":"COUNT('9 DÍAS (2 o más UA)'!M7:M52)","v":3},{"$f":"'9 DÍAS (2 o más UA)'!M54","v":2},{"$f":"COUNTIF('18 DÍAS (2 o más UA)'!M7:M8, \">10\")","v":0},{"$f":"'18 DÍAS (2 o más UA)'!M34","v":{"$error":"#DIV/0!"}},{"$f":"CountCcolor('Solicitudes Acceso restringido'!$B$2,'Solicitudes Acceso restringido'!M9:M18)","v":0},{"$f":"'Solicitudes Acceso restringido'!M19","v":{"$error":"#DIV/0!"}},{"$f":"COUNT('5 DÍAS (1 UA)'!W7:W16)","v":0},{"$f":"'5 DÍAS (1 UA)'!W18","v":{"$error":"#DIV/0!"}},{"$f":"COUNT('5 DIAS (2 o más UA)'!M7:M16)","v":0},{"$f":"'5 DIAS (2 o más UA)'!M17","v":{"$error":"#DIV/0!"}},4,{"$f":"AVERAGE(C13,G13)","v":2},1]
["UT",{"$f":"COUNT('9 DÍAS (1 UA)'!Y11:Y36)","v":0},{"$f":"'9 DÍAS (1 UA)'!Y38","v":{"$error":"#DIV/0!"}},{"$f":"COUNT('18 DÍAS (1 UA)'!Y9:Y20)","v":0},{"$f":"'18 DÍAS (1 UA)'!Y21","v":{"$error":"#DIV/0!"}},{"$f":"COUNT('9 DÍAS (2 o más UA)'!N7:N52)","v":5},{"$f":"'9 DÍAS (2 o más UA)'!N54","v":1.2},{"$f":"COUNTIF('18 DÍAS (2 o más UA)'!N7:N8, \">10\")","v":0},{"$f":"'18 DÍAS (2 o más UA)'!N34","v":{"$error":"#DIV/0!"}},{"$f":"CountCcolor('Solicitudes Acceso restringido'!$B$2,'Solicitudes Acceso restringido'!N9:N18)","v":0},{"$f":"'Solicitudes Acceso restringido'!N19","v":{"$error":"#DIV/0!"}},{"$f":"COUNT('5 DÍAS (1 UA)'!Y7:Y16)","v":0},{"$f":"'5 DÍAS (1 UA)'!Y18","v":{"$error":"#DIV/0!"}},{"$f":"COUNT('5 DIAS (2 o más UA)'!N7:N16)","v":0},null,5,{"$f":"AVERAGE(G14)","v":1.2}]
["SUMA/PROMEDIO",{"$f":"SUM(B3:B14)","v":62},{"$f":"AVERAGE(C3,C5,C6,C7,C8,C9,C10,C11,C12,C13)","v":4.5343181818181817},{"$f":"SUM(D3:D14)","v":0},{"$f":"SUM(E3:E14)/4","v":{"$error":"#DIV/0!"}},{"$f":"SUM(F3:F14)","v":53},{"$f":"AVERAGE(G3:G14)","v":4.4161764705882351},{"$f":"SUM(H3:H14)","v":0},{"$f":"SUM(I3:I14)/5","v":{"$error":"#DIV/0!"}},{"$f":"SUM(J3:J14)","v":6},{"$f":"AVERAGE(K6,K11,K12)","v":8.8333333333333339},{"$f":"SUM(L3:L14)","v":2},{"$f":"AVERAGE(M6,M12)","v":3.5},{"$f":"SUM(N3:N14)","v":0},{"$f":"AVERAGE(O3:O14)","v":{"$error":"#DIV/0!"}},{"$f":"SUM(P3:P14)","v":123},{"$f":"AVERAGE(Q3:Q14)","v":4.8073071400277279}]